Workbook

Sheet ระบบจ่ายน้ำประปา
A1: ประมาณราคาค่าก่อสร้าง | C1: ระบบท่อจ่ายน้ำประปา
A2: ='[1]แบบ ปร.6'!$A$2 -> สถานที่ก่อสร้าง | C2: บ้านบางน้ำเย็น หมู่ที่ ๔ ตำบลพะแสง อำเภอบ้านตาขุน จังหวัดสุราษฎร์ธานี | H2: แบบเลขที่
A3: ฝ่ายประมาณราคา | C3: ='[1]แบบ ปร.6'!$A$4 -> สำนักบริหารจัดการน้ำ กรมทรัพยากรน้ำ | G3: และส่วนโยธา อบต.พะแสง
A4: ประมาณการโดย | C4: นายธันฐกรณ์ คุระแก้ว | H4: เมื่อวันที่ | I4: ='[2]ปร.5 บาดาลขนาดใหญ่'!C9 -> 28 ก.ย.28
A6: ลำดับที่ | B6: รายการ | D6: จำนวนหน่วย | F6: ค่าวัสดุ | H6: ค่าแรง | J6: ค่าวัสดุและ | K6: หมายเหตุ
F7: ราคาต่อหน่วย | G7: เป็นเงิน | H7: ราคาต่อหน่วย | I7: เป็นเงิน | J7: ค่าแรงงาน
A8: 1 | B8: =[3]PVC1!$B$309 -> ท่อ PVC.ยาว 4 ม. ชั้น 8. 5 ปลายเรียบ dia 6"+ ข้อต่อ 1 อัน | D8: - | E8: =[3]PVC1!$C$309 -> ท่อน | F8: - | G8: =IF(F8="-","-",D8*F8) -> - | H8: - | I8: =IF(H8="-","-",H8*D8) -> - | J8: =SUM(G8,I8) -> 0
A10: 2 | B10: =[3]PVC1!$B$308 -> ท่อ PVC.ยาว 4 ม. ชั้น 8. 5 ปลายเรียบ dia 5"+ ข้อต่อ 1 อัน | D10: - | E10: =[3]PVC1!$C$308 -> ท่อน | F10: - | G10: - | H10: - | I10: =IF(H10="-","-",H10*D10) -> - | J10: =SUM(G10,I10) -> 0
A12: 3 | B12: =[3]PVC1!$B$307 -> ท่อ PVC.ยาว 4 ม. ชั้น 8. 5 ปลายเรียบ dia 4"+ ข้อต่อ 1 อัน | D12: 200 | E12: =[3]PVC1!$C$307 -> ท่อน | F12: =[3]PVC1!$D$307 -> 690 | G12: =IF(F12="-","-",D12*F12) -> 138000 | H12: =[3]PVC1!$E$307 -> 140 | I12: =IF(H12="-","-",H12*D12) -> 28000 | J12: =SUM(G12,I12) -> 166000
A14: 4 | B14: =[3]PVC1!$B$306 -> ท่อ PVC.ยาว 4 ม. ชั้น 8. 5 ปลายเรียบ dia 3"+ ข้อต่อ 1 อัน | D14: 300 | E14: =[3]PVC1!$C$306 -> ท่อน | F14: =[3]PVC1!$D$306 -> 420 | G14: =IF(F14="-","-",D14*F14) -> 126000 | H14: =[3]PVC1!$E$306 -> 100 | I14: =IF(H14="-","-",H14*D14) -> 30000 | J14: =SUM(G14,I14) -> 156000
A16: 5 | B16: =[3]PVC1!$B$305 -> ท่อ PVC.ยาว 4 ม. ชั้น 8. 5 ปลายเรียบ dia 2 1/2"+ ข้อต่อ 1 อัน | D16: - | E16: =[3]PVC1!$C$305 -> ท่อน | F16: - | G16: - | H16: - | I16: =IF(H16="-","-",H16*D16) -> - | J16: =SUM(G16,I16) -> 0
A18: 6 | B18: =[3]PVC1!$B$304 -> ท่อ PVC.ยาว 4 ม. ชั้น 8. 5 ปลายเรียบ dia 2"+ ข้อต่อ 1 อัน | D18: 250 | E18: =[3]PVC1!$C$304 -> ท่อน | F18: =[3]PVC1!$D$304 -> 187 | G18: =IF(F18="-","-",D18*F18) -> 46750 | H18: =[3]PVC1!$E$304 -> 84 | I18: =IF(H18="-","-",H18*D18) -> 21000 | J18: =SUM(G18,I18) -> 67750
A20: 7 | B20: =[3]PVC1!$B$303 -> ท่อ PVC.ยาว 4 ม. ชั้น 8. 5 ปลายเรียบ dia 1 1/2"+ ข้อต่อ 1 อัน | D20: - | E20: =[3]PVC1!$C$303 -> ท่อน | F20: - | G20: =IF(F20="-","-",D20*F20) -> - | H20: - | I20: =IF(H20="-","-",H20*D20) -> - | J20: =SUM(G20,I20) -> 0 | N20: 0
A22: 8 | B22: น้ำยาเชื่อมท่อ PVC ขนาด 1000 กรัม | D22: 20 | E22: กระป๋อง | F22: 260 | G22: =IF(F22="-","-",D22*F22) -> 5200 | H22: - | I22: =IF(H22="-","-",H22*D22) -> - | J22: =SUM(G22,I22) -> 5200
A23: 9 | B23: อุปกรณ์ประปา ได้แก่ ประตูน้ำ,ข้องอ,ข้อโค้ง และอุปกรณ์อื่นที่จำเป็น | E23: รายการ | F23: 34000 | G23: =F23 -> 34000 | H23: 0 | I23: =IF(H23="-","-",H23*D23) -> 0 | J23: =SUM(G23,I23) -> 34000
C26: รวมเงิน | G26: =SUM(G8:G25) -> 349950 | I26: =SUM(I8:I25) -> 79000 | J26: =SUM(J8:J25) -> 428950
C27: คิดเป็นเงินค่างาน | J27: =ROUNDDOWN(J26,-2) -> 428900
A30: ประมาณการ | B30: ธันฐกรณ์ คุระแก้ว | D30: เห็นชอบ | E30: ถาวร วิเศษ
B31: นายธันฐกรณ์ คุระแก้ว | E31: (นายถาวร วิเศษ)
B32: ผู้อำนวยการกองช่าง | E32: นายกอบต.พะแสง
E33: คณะกรรมการกำหนดราคากลาง
B34: ..........................................................…… | D34: ....................................... | E34: 1.นายอภินันท์ สัมพันธ์ ตำแหน่ง ผอ.กองช่าง ทต.บ้านตาขุน ประธานกรรมการ
D35: ....................................... | E35: 2.นายธันกรณ์ คุระแก้ว ตำแหน่ง ผอ.กองช่าง อบต.พะแสง กรรมการ
D36: ...................................... | E36: 3.นายพรภิรมย์ ศรีรักษา ตำแหน่ง รองปลัดอบต.พะแสง กรรมการ

Sheet กรด-ด่าง
A1: ประมาณราคาค่าก่อสร้าง | C1: เครื่องมือตรวจวัดความเป็นกรด-ด่าง ในน้ำ
A2: ='[4]แบบ ปร.6'!$A$2 -> สถานที่ก่อสร้าง | C2: บ้านบางน้ำเย็น หมู่ที่ ๔ ตำบลพะแสง อำเภอบ้านตาขุน จังหวัดสุราษฎร์ธานี | H2: แบบเลขที่ | I2: รายการฯ เฉพาะแห่ง
A3: ฝ่ายประมาณราคา | C3: ='[4]แบบ ปร.6'!$A$4 -> สำนักบริหารจัดการน้ำ กรมทรัพยากรน้ำ | F3: และส่วนโยธา อบต.พะแสง
A4: ประมาณการโดย | C4: นายธันฐกรณ์ คุระแก้ว | H4: เมื่อวันที่ | I4: ='[2]ปร.5 บาดาลขนาดใหญ่'!C9 -> 28 ก.ย.28
A6: ลำดับที่ | B6: รายการ | D6: จำนวนหน่วย | F6: ค่าวัสดุ | H6: ค่าแรง | J6: ค่าวัสดุและ | K6: หมายเหตุ
F7: ราคาต่อหน่วย | G7: เป็นเงิน | H7: ราคาต่อหน่วย | I7: เป็นเงิน | J7: ค่าแรงงาน
A8: 1 | B8: =[3]ชุดวิเคราะห์!$B$2 -> เครื่องมือตรวจวัดความเป็นกรด-ด่างในน้ำ | D8: 1 | E8: =[3]ชุดวิเคราะห์!$C$2 -> ชุด | F8: =[3]ชุดวิเคราะห์!$D$2 -> 3800 | G8: =SUM(F8*D8) -> 3800 | H8: - | I8: - | J8: =SUM(G8,I8) -> 3800
C12: รวมเงิน | G12: =SUM(G8:G11) -> 3800 | I12: =SUM(I8:I11) -> 0 | J12: =SUM(J8:J11) -> 3800
C13: คิดเป็นเงิน | J13: =ROUNDDOWN(J12,0) -> 3800
A17: ประมาณการ | B17: ธันฐกรณ์ คุระแก้ว | D17: เห็นชอบ | E17: ถาวร วิเศษ
B18: นายธันฐกรณ์ คุระแก้ว | E18: (นายถาวร วิเศษ)
B19: ผู้อำนวยการกองช่าง | E19: นายกอบต.พะแสง
E20: คณะกรรมการกำหนดราคากลาง
B21: ..........................................................…… | D21: ....................................... | E21: 1.นายอภินันท์ สัมพันธ์ ตำแหน่ง ผอ.กองช่าง ทต.บ้านตาขุน ประธานกรรมการ
D22: ....................................... | E22: 2.นายธันกรณ์ คุระแก้ว ตำแหน่ง ผอ.กองช่าง อบต.พะแสง กรรมการ
D23: ...................................... | E23: 3.นายพรภิรมย์ ศรีรักษา ตำแหน่ง รองปลัดอบต.พะแสง กรรมการ

Sheet ระบบไฟฟ้า
A1: ประมาณราคาค่าก่อสร้าง | C1: การประสานระบบไฟฟ้า
A2: ='[1]แบบ ปร.6'!$A$2 -> สถานที่ก่อสร้าง | C2: บ้านบางน้ำเย็น หมู่ที่ ๔ ตำบลพะแสง อำเภอบ้านตาขุน จังหวัดสุราษฎร์ธานี | G2: รายการฯ เฉพาะแห่ง | I2: รายการเลขที่
A3: ฝ่ายประมาณราคา | C3: ='[1]แบบ ปร.6'!$A$4 -> สำนักบริหารจัดการน้ำ กรมทรัพยากรน้ำ | G3: และส่วนโยธา อบต.พะแสง
A4: ประมาณการโดย | C4: นายธันฐกรณ์ คุระแก้ว | F4: เมื่อวันที่ | G4: 28 ก.ย. 58
A6: ลำดับที่ | B6: รายการ | D6: จำนวนหน่วย | F6: ค่าวัสดุ | H6: ค่าแรง | J6: ค่าวัสดุและ | K6: หมายเหตุ
F7: ราคาต่อหน่วย | G7: เป็นเงิน | H7: ราคาต่อหน่วย | I7: เป็นเงิน | J7: ค่าแรงงาน
B8: ก. ระบบไฟฟ้าภายนอก (การไฟฟ้าฯ ดำเนินการ)
A9: 1 | B9: ขยายเขตแรงต่ำ
B10: [ ] ปักเสา คอร. ยาว.....ม. (8,9 ม.) จำนวน....ต้น ระยะทาง.....ม.
B11: [ ] พาดสาย..............ม.
A12: 2 | B12: ขยายเขตแรงสูง (ภายนอก-ภายใน) | D12: 1 | E12: ชุด | F12: 0 | G12: =IF(F12="-","-",D12*F12) -> 0 | H12: 0 | I12: =IF(H12="-","-",H12*D12) -> 0 | J12: =SUM(G12,I12) -> 0
B13: [ ] ปักเสา คอร. ยาว....ม. (12,14 ม.) จำนวน....ต้น ระยะทาง.....ม.
B14: [ ] ติดตั้งหม้อแปลง 1 เฟส ขนาด 30 KVA.
B15: [ ] ติดตั้งหม้อแปลง 3 เฟส ขนาด.........KVA.
B16: [ ] แผนกคาปาชิเตอร์
A17: 3 | B17: ติดตั้งมิเตอร์ขนาด 3 เฟส 30 แอมป์ | D17: 1 | E17: รายการ | F17: 0 | G17: =IF(F17="-","-",D17*F17) -> 0 | H17: 0 | I17: =IF(H17="-","-",H17*D17) -> 0 | J17: =SUM(G17,I17) -> 0
C22: รวมเงิน | G22: =SUM(G12:G21) -> 0 | I22: =SUM(I8:I21) -> 0 | J22: =SUM(J12:J21) -> 0
C23: คิดเป็นเงิน | G23: =ROUNDDOWN(SUM(G22),0) -> 0 | I23: =ROUNDDOWN(SUM(I22),0) -> 0 | J23: =SUM(G23,I23) -> 0
A28: ประมาณราคาค่าก่อสร้าง | C28: การประสานระบบไฟฟ้า
A29: ='[1]แบบ ปร.6'!$A$2 -> สถานที่ก่อสร้าง | H29: แบบเลขที่ | I29: รายการฯ เฉพาะแห่ง
A30: ฝ่ายประมาณราคา | C30: ='[1]แบบ ปร.6'!$A$4 -> สำนักบริหารจัดการน้ำ กรมทรัพยากรน้ำ
A31: ประมาณการโดย | H31: เมื่อวันที่ | I31: ก.ค.54
A33: ลำดับที่ | B33: รายการ | D33: จำนวนหน่วย | F33: ค่าวัสดุ | H33: ค่าแรง | J33: ค่าวัสดุและ | K33: หมายเหตุ
F34: ราคาต่อหน่วย | G34: เป็นเงิน | H34: ราคาต่อหน่วย | I34: เป็นเงิน | J34: ค่าแรงงาน
B35: ข. ระบบไฟฟ้าภายใน (ผู้รับจ้างดำเนินการ)
A36: 1 | B36: =[3]งานไฟฟ้า!$B$6 -> เสาไฟฟ้า คอร. ยาวไม่น้อยกว่า 8.00 ม. | D36: 1 | E36: =[3]งานไฟฟ้า!$C$6 -> ต้น | F36: =[3]งานไฟฟ้า!$D$6 -> 1860 | G36: =IF(F36="-","-",D36*F36) -> 1860 | H36: =[3]งานไฟฟ้า!$E$6 -> 500 | I36: =IF(H36="-","-",H36*D36) -> 500 | J36: =SUM(G36,I36) -> 2360
A37: 2 | B37: สายไฟฟ้าอลูมิเนียมหุ้มฉนวน
B38: พื้นที่หน้าตัดไม่น้อยกว่า 25 ตร.มม. | D38: 100 | E38: =[3]งานไฟฟ้า!$C$7 -> ม. | F38: =[3]งานไฟฟ้า!$D$7 -> 25 | G38: =IF(F38="-","-",D38*F38) -> 2500 | H38: 0 | I38: =IF(H38="-","-",H38*D38) -> 0 | J38: =SUM(G38,I38) -> 2500
A39: 3 | B39: =[3]งานไฟฟ้า!$B$8 -> แผงควบคุมไฟฟ้าในโรงสูบน้ำ | D39: 1 | E39: =[3]งานไฟฟ้า!$C$8 -> ชุด | F39: =[3]งานไฟฟ้า!$D$8 -> 2100 | G39: =IF(F39="-","-",D39*F39) -> 2100 | H39: =[3]งานไฟฟ้า!$E$8 -> 200 | I39: =IF(H39="-","-",H39*D39) -> 200 | J39: =SUM(G39,I39) -> 2300
A40: 4 | B40: =[3]งานไฟฟ้า!$B$9 -> อุปกรณ์โยงยึดสายไฟฟ้า | D40: 5 | E40: =[3]งานไฟฟ้า!$C$9 -> ชุด | F40: =[3]งานไฟฟ้า!$D$9 -> 350 | G40: =IF(F40="-","-",D40*F40) -> 1750 | H40: =[3]งานไฟฟ้า!$E$9 -> 200 | I40: =IF(H40="-","-",H40*D40) -> 1000 | J40: =SUM(G40,I40) -> 2750
A41: 5 | B41: =[3]งานไฟฟ้า!$B$10 -> สวิทซ์ลูกลอยอัตโนมัติ | D41: 2 | E41: =[3]งานไฟฟ้า!$C$10 -> ชุด | F41: =[3]งานไฟฟ้า!$D$10 -> 1320 | G41: =IF(F41="-","-",D41*F41) -> 2640 | H41: =[3]งานไฟฟ้า!$E$10 -> 450 | I41: =IF(H41="-","-",H41*D41) -> 900 | J41: =SUM(G41,I41) -> 3540
A42: 6 | B42: =[3]งานไฟฟ้า!$B$13 -> สายไฟฟ้า(ควบคุมสวิทซ์ลูกลอย) | D42: 40 | E42: =[3]งานไฟฟ้า!$C$13 -> ม. | F42: =[3]งานไฟฟ้า!$D$13 -> 15 | G42: =IF(F42="-","-",D42*F42) -> 600 | H42: =[3]งานไฟฟ้า!$E$13 -> 5 | I42: =IF(H42="-","-",H42*D42) -> 200 | J42: =SUM(G42,I42) -> 800
C44: รวมเงิน | G44: =SUM(G36:G43) -> 11450 | I44: =SUM(I36:I43) -> 2800 | J44: =SUM(J36:J43) -> 14250
C45: คิดเป็นเงินค่างาน | J45: =ROUNDDOWN(J44,0) -> 14250
A49: ประมาณการ | B49: ธันฐกรณ์ คุระแก้ว | D49: เห็นชอบ | E49: ถาวร วิเศษ
B50: นายธันฐกรณ์ คุระแก้ว | E50: (นายถาวร วิเศษ)
B51: ผู้อำนวยการกองช่าง | E51: นายกอบต.พะแสง
E52: คณะกรรมการกำหนดราคากลาง
B53: ..........................................................…… | D53: ....................................... | E53: 1.นายอภินันท์ สัมพันธ์ ตำแหน่ง ผอ.กองช่าง ทต.บ้านตาขุน ประธานกรรมการ
D54: ....................................... | E54: 2.นายธันกรณ์ คุระแก้ว ตำแหน่ง ผอ.กองช่าง อบต.พะแสง กรรมการ
D55: ...................................... | E55: 3.นายพรภิรมย์ ศรีรักษา ตำแหน่ง รองปลัดอบต.พะแสง กรรมการ

Sheet รางระบาย(1)
A1: ประมาณราคาค่าก่อสร้าง | C1: รางระบายน้ำ
A2: ='[4]แบบ ปร.6'!$A$2 -> สถานที่ก่อสร้าง | C2: บ้านบางน้ำเย็น หมู่ที่ ๔ ตำบลพะแสง อำเภอบ้านตาขุน จังหวัดสุราษฎร์ธานี | H2: แบบเลขที่ | I2: 911001
A3: ฝ่ายประมาณราคา | C3: ='[4]แบบ ปร.6'!$A$4 -> สำนักบริหารจัดการน้ำ กรมทรัพยากรน้ำ | G3: และส่วนโยธา อบต.พะแสง
A4: ประมาณการโดย | C4: นายธันฐกรณ์ คุระแก้ว | H4: เมื่อวันที่ | I4: ='[2]ปร.5 บาดาลขนาดใหญ่'!C9 -> 28 ก.ย.28
A6: ลำดับที่ | B6: รายการ | D6: จำนวนหน่วย | F6: ค่าวัสดุ | H6: ค่าแรง | J6: ค่าวัสดุและ | K6: หมายเหตุ
F7: ราคาต่อหน่วย | G7: เป็นเงิน | H7: ราคาต่อหน่วย | I7: เป็นเงิน | J7: ค่าแรงงาน
A8: 1 | B8: ขุดดิน | D8: 0.39 | E8: =[3]งานดิน!$C$2 -> ลบ.ม. | F8: 0 | G8: =F8*D8 -> 0 | H8: =[3]งานดิน!$E$2 -> 81 | I8: =H8*D8 -> 31.59 | J8: =I8+G8 -> 31.59
A9: 2 | B9: =[3]งานดิน!$B$6 -> ทรายหยาบ,ทรายหยาบรองพื้น | D9: 0.03 | E9: =[3]งานดิน!$C$6 -> ลบ.ม. | F9: =[3]งานดิน!$D$6 -> 360 | G9: =F9*D9 -> 10.8 | H9: =[3]งานดิน!$E$6 -> 59 | I9: =H9*D9 -> 1.77 | J9: =I9+G9 -> 12.57
A10: 3 | B10: =[3]งานคอนกรีต!$B$3 -> คอนกรีต 1 : 2 : 4 (ซีเมนต์ไม่น้อยกว่า 320 กก/ลบ.ม.) | D10: 0.05 | E10: =[3]งานคอนกรีต!$C$3 -> ลบ.ม. | F10: =[3]งานคอนกรีต!$D$3 -> 1610 | G10: =F10*D10 -> 80.5 | H10: =[3]งานคอนกรีต!$E$3 -> 395 | I10: =H10*D10 -> 19.75 | J10: =I10+G10 -> 100.25
A11: 4 | B11: =[3]เหล็กเส้นกลม!$B$3 -> เหล็กเส้นกลม dia. 9 มม. (4.99 กก./เส้น) | D11: 2 | E11: =[3]เหล็กเส้นกลม!$C$3 -> กก. | F11: =[3]เหล็กเส้นกลม!$D$3 -> 23.1 | G11: =F11*D11 -> 46.2 | H11: =[3]เหล็กเส้นกลม!$E$3 -> 2.8 | I11: =H11*D11 -> 5.6 | J11: =I11+G11 -> 51.8
A12: 5 | B12: =[3]งานผนัง!$B$2 -> ก่ออิฐมอญ 1/2 แผ่น | D12: 1 | E12: =[3]งานผนัง!$C$2 -> ตร.ม. | F12: =[3]งานผนัง!$D$2 -> 210 | G12: =F12*D12 -> 210 | H12: =[3]งานผนัง!$E$2 -> 80 | I12: =H12*D12 -> 80 | J12: =I12+G12 -> 290
A13: 6 | B13: ='[3]งานผิวผนัง-ผิวพื้น'!$B$2 -> ฉาบปูนเรียบธรรมดา | D13: 2.3 | E13: ='[3]งานผิวผนัง-ผิวพื้น'!$C$2 -> ตร.ม. | F13: ='[3]งานผิวผนัง-ผิวพื้น'!$D$2 -> 55 | G13: =F13*D13 -> 126.5 | H13: ='[3]งานผิวผนัง-ผิวพื้น'!$E$2 -> 70 | I13: =H13*D13 -> 161 | J13: =I13+G13 -> 287.5
C15: รวมเงิน | G15: =SUM(G8:G14) -> 474 | I15: =SUM(I8:I14) -> 299.71 | J15: =SUM(J8:J14) -> 773.71
C16: คิดเป็นเงินค่างาน | J16: =ROUNDDOWN(J15,0) -> 773
A19: ประมาณการ | B19: ธันฐกรณ์ คุระแก้ว | D19: เห็นชอบ | E19: ถาวร วิเศษ
B20: นายธันฐกรณ์ คุระแก้ว | E20: (นายถาวร วิเศษ)
B21: ผู้อำนวยการกองช่าง | E21: นายกอบต.พะแสง
E22: คณะกรรมการกำหนดราคากลาง
B23: ..........................................................…… | D23: ....................................... | E23: 1.นายอภินันท์ สัมพันธ์ ตำแหน่ง ผอ.กองช่าง ทต.บ้านตาขุน ประธานกรรมการ
D24: ....................................... | E24: 2.นายธันกรณ์ คุระแก้ว ตำแหน่ง ผอ.กองช่าง อบต.พะแสง กรรมการ
D25: ...................................... | E25: 3.นายพรภิรมย์ ศรีรักษา ตำแหน่ง รองปลัดอบต.พะแสง กรรมการ

Sheet รางระบาย(2)
A1: ประมาณราคาค่าก่อสร้าง | C1: รางระบายน้ำ
A2: ='[4]แบบ ปร.6'!$A$2 -> สถานที่ก่อสร้าง | C2: บ้านบางน้ำเย็น หมู่ที่ ๔ ตำบลพะแสง อำเภอบ้านตาขุน จังหวัดสุราษฎร์ธานี | G2: 911001
A3: ฝ่ายประมาณราคา | C3: ='[4]แบบ ปร.6'!$A$4 -> สำนักบริหารจัดการน้ำ กรมทรัพยากรน้ำ | G3: และส่วนโยธา อบต.พะแสง
A4: ประมาณการโดย | C4: นายธันฐกรณ์ คุระแก้ว | F4: เมื่อวันที่ 28 | G4: ก.ย.58
A6: ลำดับที่ | B6: รายการ | D6: จำนวนหน่วย | F6: ค่าวัสดุ | H6: ค่าแรง | J6: ค่าวัสดุและ | K6: หมายเหตุ
F7: ราคาต่อหน่วย | G7: เป็นเงิน | H7: ราคาต่อหน่วย | I7: เป็นเงิน | J7: ค่าแรงงาน
A8: 1 | B8: รางระบายน้ำ | D8: 8 | E8: ม. | F8: ='[4]รางระบาย(1)-'!G15 -> 474 | G8: =F8*D8 -> 3792 | H8: ='[4]รางระบาย(1)-'!I15 -> 299.71 | I8: =H8*D8 -> 2397.68 | J8: =I8+G8 -> 6189.68
C15: รวมเงิน | G15: =SUM(G8:G14) -> 3792 | I15: =SUM(I8:I14) -> 2397.68 | J15: =SUM(J8:J14) -> 6189.68
C16: คิดเป็นเงินค่างาน | J16: =ROUNDDOWN(J15,-2) -> 6100
A19: ประมาณการ | B19: ธันฐกรณ์ คุระแก้ว | D19: เห็นชอบ | E19: ถาวร วิเศษ
B20: นายธันฐกรณ์ คุระแก้ว | E20: (นายถาวร วิเศษ)
B21: ผู้อำนวยการกองช่าง | E21: นายกอบต.พะแสง
E22: คณะกรรมการกำหนดราคากลาง
B23: ..........................................................…… | D23: ....................................... | E23: 1.นายอภินันท์ สัมพันธ์ ตำแหน่ง ผอ.กองช่าง ทต.บ้านตาขุน ประธานกรรมการ
D24: ....................................... | E24: 2.นายธันกรณ์ คุระแก้ว ตำแหน่ง ผอ.กองช่าง อบต.พะแสง กรรมการ
D25: ...................................... | E25: 3.นายพรภิรมย์ ศรีรักษา ตำแหน่ง รองปลัดอบต.พะแสง กรรมการ

Sheet เหล็ก
A1: ประมาณราคาค่าก่อสร้าง | C1: เครื่องมือตรวจวัดสารละลายเหล็กในน้ำ
A2: ='[2]แบบ ปร.6'!$A$2 -> สถานที่ก่อสร้าง | C2: บ้านบางน้ำเย็น หมู่ที่ ๔ ตำบลพะแสง อำเภอบ้านตาขุน จังหวัดสุราษฎร์ธานี | H2: แบบเลขที่ | I2: รายการฯ เฉพาะแห่ง
A3: ฝ่ายประมาณราคา | C3: ='[2]แบบ ปร.6'!$A$4 -> สำนักบริหารจัดการน้ำ กรมทรัพยากรน้ำ | G3: และส่วนโยธา อบต.พะแสง
A4: ประมาณการโดย | C4: นายธันฐกรณ์ คุระแก้ว | H4: เมื่อวันที่ | I4: ='[2]ปร.5 บาดาลขนาดใหญ่'!C9 -> 28 ก.ย.28
A6: ลำดับที่ | B6: รายการ | D6: จำนวนหน่วย | F6: ค่าวัสดุ | H6: ค่าแรง | J6: ค่าวัสดุและ | K6: หมายเหตุ
F7: ราคาต่อหน่วย | G7: เป็นเงิน | H7: ราคาต่อหน่วย | I7: เป็นเงิน | J7: ค่าแรงงาน
A8: 1 | B8: =[3]ชุดวิเคราะห์!$B$3 -> เครื่องมือตรวจวัดสารละลายเหล็กในน้ำ | D8: 1 | E8: =[3]ชุดวิเคราะห์!$C$3 -> ชุด | F8: =[3]ชุดวิเคราะห์!$D$3 -> 3000 | G8: =SUM(F8*D8) -> 3000 | H8: =[5]ชุดวิเคราะห์!$E$3 -> - | I8: - | J8: =SUM(G8,I8) -> 3000
C12: รวมเงิน | G12: =SUM(G8:G11) -> 3000 | I12: =SUM(I8:I11) -> 0 | J12: =SUM(J8:J11) -> 3000
C13: คิดเป็นเงิน | J13: =ROUNDDOWN(J12,0) -> 3000
A16: ประมาณการ | B16: ธันฐกรณ์ คุระแก้ว | D16: เห็นชอบ | E16: ถาวร วิเศษ
B17: นายธันฐกรณ์ คุระแก้ว | E17: (นายถาวร วิเศษ)
B18: ผู้อำนวยการกองช่าง | E18: นายกอบต.พะแสง
E19: คณะกรรมการกำหนดราคากลาง
B20: ..........................................................…… | D20: ....................................... | E20: 1.นายอภินันท์ สัมพันธ์ ตำแหน่ง ผอ.กองช่าง ทต.บ้านตาขุน ประธานกรรมการ
D21: ....................................... | E21: 2.นายธันกรณ์ คุระแก้ว ตำแหน่ง ผอ.กองช่าง อบต.พะแสง กรรมการ
D22: ...................................... | E22: 3.นายพรภิรมย์ ศรีรักษา ตำแหน่ง รองปลัดอบต.พะแสง กรรมการ

Sheet เครื่องมือฯประปา
A1: ประมาณราคาค่าก่อสร้าง | C1: เครื่องมือประจำการประปา
A2: ='[4]แบบ ปร.6'!$A$2 -> สถานที่ก่อสร้าง | D2: บ้านบางน้ำเย็น หมู่ที่ ๔ ตำบลพะแสง อำเภอบ้านตาขุน จังหวัดสุราษฎร์ธานี | H2: แบบเลขที่ | I2: รายการฯ เฉพาะแห่ง
A3: ฝ่ายประมาณราคา | C3: ='[4]แบบ ปร.6'!$A$4 -> สำนักบริหารจัดการน้ำ กรมทรัพยากรน้ำ | F3: และส่วนโยธา อบต.พะแสง
A4: ประมาณการโดย | C4: นายธันฐกรณ์ คุระแก้ว | H4: เมื่อวันที่ | I4: ='[2]ปร.5 บาดาลขนาดใหญ่'!C9 -> 28 ก.ย.28
A6: ลำดับที่ | B6: รายการ | D6: จำนวนหน่วย | F6: ค่าวัสดุ | H6: ค่าแรง | J6: ค่าวัสดุและ | K6: หมายเหตุ
F7: ราคาต่อหน่วย | G7: เป็นเงิน | H7: ราคาต่อหน่วย | I7: เป็นเงิน | J7: ค่าแรงงาน
A8: 1 | B8: =[3]เครื่องมือ!B2 -> ประแจคอม้าขนาด 24" | D8: 2 | E8: ตัว | F8: =[3]เครื่องมือ!$D$2 -> 1050 | G8: =SUM(F8*D8) -> 2100 | H8: - | I8: - | J8: =SUM(G8,I8) -> 2100
A9: 2 | B9: =[3]เครื่องมือ!B3 -> ประแจเลื่อนขนาด 10" | D9: 1 | E9: ตัว | F9: =[3]เครื่องมือ!$D$3 -> 450 | G9: =SUM(F9*D9) -> 450 | H9: - | I9: - | J9: =SUM(G9,I9) -> 450
A10: 3 | B10: =[3]เครื่องมือ!B4 -> เลื่อยตัดเหล็ก 1 อัน พร้อมใบเลื่อย 12" | D10: 1 | E10: ชุด | F10: =[3]เครื่องมือ!$D$4 -> 420 | G10: =SUM(F10*D10) -> 420 | H10: - | I10: - | J10: =SUM(G10,I10) -> 420
A11: 4 | B11: =[3]เครื่องมือ!B5 -> คีมล๊อคขนาด 10"ของไวส์กริป(vise clip) หรือเทียบเท่า | D11: 1 | E11: อัน | F11: =[3]เครื่องมือ!$D$5 -> 220 | G11: =SUM(F11*D11) -> 220 | H11: - | I11: - | J11: =SUM(G11,I11) -> 220
A12: 5 | B12: =[3]เครื่องมือ!B6 -> ไขควงลองไฟ | D12: 1 | E12: อัน | F12: =[3]เครื่องมือ!$D$6 -> 40 | G12: =SUM(F12*D12) -> 40 | H12: - | I12: - | J12: =SUM(G12,I12) -> 40
A13: 6 | B13: =[3]เครื่องมือ!B7 -> ไขควงปากแฉก ขนาด 4" | D13: 1 | E13: อัน | F13: =[3]เครื่องมือ!$D$7 -> 35 | G13: =SUM(F13*D13) -> 35 | H13: - | I13: - | J13: =SUM(G13,I13) -> 35
A14: 7 | B14: =[3]เครื่องมือ!B8 -> ไขควงปากแบน ขนาด 4" | D14: 1 | E14: อัน | F14: =[3]เครื่องมือ!$D$8 -> 35 | G14: =SUM(F14*D14) -> 35 | H14: - | I14: - | J14: =SUM(G14,I14) -> 35
A15: 8 | B15: =[3]เครื่องมือ!B9 -> ฆ้อนหัวกลม ขนาดหนัก 2 ปอนด์ | D15: 1 | E15: อัน | F15: =[3]เครื่องมือ!$D$9 -> 100 | G15: =SUM(F15*D15) -> 100 | H15: - | I15: - | J15: =SUM(G15,I15) -> 100
A16: 9 | B16: =[3]เครื่องมือ!B10 -> ตลับเมตรวัดระยะยาว 5.00 ม. ตัวตลับทำด้วยโลหะ | D16: 1 | E16: อัน | F16: =[3]เครื่องมือ!$D$10 -> 200 | G16: =SUM(F16*D16) -> 200 | H16: - | I16: - | J16: =SUM(G16,I16) -> 200
B17: =[3]เครื่องมือ!B11 -> ไม่เป็นสนิมชนิดมีสปริงรั้งกลับ
A18: 10 | B18: =[3]เครื่องมือ!B12 -> ตู้เหล็กบานเลื่อนทึบพร้อมขาตั้งขนาด 46.5"x16"x34.5" | D18: 1 | E18: ตู้ | F18: =[3]เครื่องมือ!$D$12 -> 2800 | G18: =SUM(F18*D18) -> 2800 | H18: - | I18: - | J18: =SUM(G18,I18) -> 2800
B19: =[3]เครื่องมือ!B13 -> แต่ละมิติ (กว้างxลึกxสูง) บวก-ลบ ไม่เกิน 0.05 ม.
A20: 11 | B20: =[3]เครื่องมือ!B14 -> คลิ๊ปแอมป์ วัดกระแสได้สูงสุดไม่น้อยกว่า 600 แอมป์ ปรับช่วงการวัด | D20: 1 | E20: ตู้ | F20: =[3]เครื่องมือ!$D$14 -> 2300 | G20: =SUM(F20*D20) -> 2300 | H20: - | I20: - | J20: =SUM(G20,I20) -> 2300
B21: =[3]เครื่องมือ!B15 -> กระแสได้ไม่น้อยกว่า 5 ช่วง (Range) วัดความต้านทานกระแสไฟฟ้า
B22: =[3]เครื่องมือ!B16 -> -แรงดันไฟฟ้าได้ ไม่น้อยกว่า 600 โวลท์
C24: รวมเงิน | G24: =SUM(G8:G23) -> 8700 | I24: 0 | J24: =SUM(J8:J23) -> 8700
C25: คิดเป็นเงิน | J25: =ROUNDDOWN(J24,0) -> 8700
A29: ประมาณการ | B29: ธันฐกรณ์ คุระแก้ว | D29: เห็นชอบ | E29: ถาวร วิเศษ
B30: นายธันฐกรณ์ คุระแก้ว | E30: (นายถาวร วิเศษ)
B31: ผู้อำนวยการกองช่าง | E31: นายกอบต.พะแสง
E32: คณะกรรมการกำหนดราคากลาง
B33: ..........................................................…… | D33: ....................................... | E33: 1.นายอภินันท์ สัมพันธ์ ตำแหน่ง ผอ.กองช่าง ทต.บ้านตาขุน ประธานกรรมการ
D34: ....................................... | E34: 2.นายธันกรณ์ คุระแก้ว ตำแหน่ง ผอ.กองช่าง อบต.พะแสง กรรมการ
D35: ...................................... | E35: 3.นายพรภิรมย์ ศรีรักษา ตำแหน่ง รองปลัดอบต.พะแสง กรรมการ

Sheet ประสานปากบ่อ
A1: ประมาณราคาค่าก่อสร้าง | C1: การประสานท่อที่ปากบ่อบาดาล
A2: ='[2]แบบ ปร.6'!$A$2 -> สถานที่ก่อสร้าง | D2: บ้านบางน้ำเย็น หมู่ที่ ๔ ตำบลพะแสง อำเภอบ้านตาขุน จังหวัดสุราษฎร์ธานี | H2: แบบเลขที่ | I2: 911007
A3: ฝ่ายประมาณราคา | C3: ='[2]แบบ ปร.6'!$A$4 -> สำนักบริหารจัดการน้ำ กรมทรัพยากรน้ำ | G3: และส่วนโยธา อบต.พะแสง
A4: ประมาณการโดย | C4: นายธันฐกรณ์ คุระแก้ว | H4: เมื่อวันที่ | I4: ='[2]ปร.5 บาดาลขนาดใหญ่'!C9 -> 28 ก.ย.28
A6: ลำดับที่ | B6: รายการ | D6: จำนวนหน่วย | F6: ค่าวัสดุ | H6: ค่าแรง | J6: ค่าวัสดุและ | K6: หมายเหตุ
F7: ราคาต่อหน่วย | G7: เป็นเงิน | H7: ราคาต่อหน่วย | I7: เป็นเงิน | J7: ค่าแรงงาน
A8: 1 | B8: =[3]GS.!$B$295 -> ท่อเหล็กอาบสังกะสี dia 2" | D8: 0.17 | E8: =[3]GS.!$C$295 -> ท่อน | F8: =[3]GS.!$D$295 -> 1143 | G8: =IF(F8="-","-",D8*F8) -> 194.31 | J8: =SUM(G8,I8) -> 194.31
A9: 2 | B9: =[3]GS.!$B$292 -> ท่อเหล็กอาบสังกะสี dia 3" | D9: 0.17 | E9: =[3]GS.!$C$292 -> ท่อน | F9: =[3]GS.!$D$292 -> 1832 | G9: =IF(F9="-","-",D9*F9) -> 311.44 | J9: =SUM(G9,I9) -> 311.44
A10: 3 | B10: =[3]GS.!$B$42 -> ข้องอเหล็กอาบสังกะสี 90 ม-ม dia 3" | D10: 1 | E10: =[3]GS.!$C$42 -> ตัว | F10: =[3]GS.!$D$42 -> 178 | G10: =IF(F10="-","-",D10*F10) -> 178 | J10: =SUM(G10,I10) -> 178
A11: 4 | B11: =[3]GS.!$B$40 -> ข้องอเหล็กอาบสังกะสี 90 ม-ม dia 2" | D11: 2 | E11: =[3]GS.!$C$40 -> ตัว | F11: =[3]GS.!$D$40 -> 70 | G11: =IF(F11="-","-",D11*F11) -> 140 | J11: =SUM(G11,I11) -> 140
A12: 5 | B12: =[3]GS.!$B$207 -> นิปเปิ้ลเหล็กอาบสังกะสี dia 2" | D12: 3 | E12: =[3]GS.!$C$207 -> ตัว | F12: =[3]GS.!$D$207 -> 32 | G12: =IF(F12="-","-",D12*F12) -> 96 | J12: =SUM(G12,I12) -> 96
A13: 6 | B13: =[3]GS.!$B$218 -> ยูเนียนเหล็กอาบสังกะสี dia 2" | D13: 2 | E13: =[3]GS.!$C$218 -> ตัว | F13: =[3]GS.!$D$218 -> 95 | G13: =IF(F13="-","-",D13*F13) -> 190 | J13: =SUM(G13,I13) -> 190
A14: 7 | B14: =[3]เหล็กหล่อ!$B$340 -> หน้าจานเหล็กหล่อเกลียวใน dia 3" | D14: 1 | E14: =[3]เหล็กหล่อ!$C$340 -> ตัว | F14: =[3]เหล็กหล่อ!$D$340 -> 290 | G14: =IF(F14="-","-",D14*F14) -> 290 | I14: 650 | J14: =SUM(G14,I14) -> 940
A15: 8 | B15: =[3]เหล็กหล่อ!$B$406 -> หน้าจานเหล็กหล่อ dia 3 " เจาะรูลด 2 นิ้ว | D15: 1 | E15: =[3]เหล็กหล่อ!$C$197 -> ตัว | F15: =[3]เหล็กหล่อ!$D$406 -> 300 | G15: =IF(F15="-","-",D15*F15) -> 300 | J15: =SUM(G15,I15) -> 300
A16: 9 | B16: =[3]เช็ควาล์ว!$B$7 -> เช็ควาล์วทองเหลือง dia 2" | D16: 1 | E16: =[3]เช็ควาล์ว!$C$7 -> ชุด | F16: =[3]เช็ควาล์ว!$D$7 -> 640 | G16: =IF(F16="-","-",D16*F16) -> 640 | J16: =SUM(G16,I16) -> 640
A17: 10 | B17: =[3]ประตูน้ำ!$B$7 -> ประตูน้ำทองเหลือง dia 2" | D17: 1 | E17: =[3]ประตูน้ำ!$C$7 -> ชุด | F17: =[3]ประตูน้ำ!$D$7 -> 1048 | G17: =IF(F17="-","-",D17*F17) -> 1048 | J17: =SUM(G17,I17) -> 1048
A18: 11 | B18: =[3]GS.!$B$272 -> น๊อตยึดหน้าจาน | D18: 4 | E18: =[3]GS.!$C$273 -> ตัว | F18: =[3]GS.!$D$272 -> 20 | G18: =IF(F18="-","-",D18*F18) -> 80 | J18: =SUM(G18,I18) -> 80
A19: 12 | B19: =[3]GS.!$B$253 -> ประเก็นยาง dia 3" | D19: 1 | E19: =[3]GS.!$C$253 -> แผ่น | F19: =[3]GS.!$D$253 -> 20 | G19: =IF(F19="-","-",D19*F19) -> 20 | J19: =SUM(G19,I19) -> 20
A20: 13 | B20: ='[3]อื่น ๆ'!$B$22 -> เทปพันเกลียว | D20: 1 | E20: ='[3]อื่น ๆ'!$C$22 -> ม้วน | F20: ='[3]อื่น ๆ'!$D$22 -> 12 | G20: =IF(F20="-","-",D20*F20) -> 12 | J20: =SUM(G20,I20) -> 12
A21: 14 | B21: ='[3]อื่น ๆ'!$B$21 -> ทำเกลียว | D21: 9 | E21: ='[3]อื่น ๆ'!$C$21 -> จุด | F21: ='[3]อื่น ๆ'!$D$21 -> - | G21: - | H21: ='[3]อื่น ๆ'!$E$21 -> 10 | I21: =IF(H21="-","-",H21*D21) -> 90 | J21: =SUM(G21,I21) -> 90
A22: 15 | B22: =[3]งานคอนกรีต!$B$3 -> คอนกรีต 1 : 2 : 4 (ซีเมนต์ไม่น้อยกว่า 320 กก/ลบ.ม.) | D22: 0.315 | E22: =[3]งานคอนกรีต!$C$3 -> ลบ.ม. | F22: =[3]งานคอนกรีต!$D$3 -> 1610 | G22: =IF(F22="-","-",D22*F22) -> 507.15 | H22: =[3]งานคอนกรีต!$E$3 -> 395 | I22: =IF(H22="-","-",H22*D22) -> 124.425 | J22: =SUM(G22,I22) -> 631.575
A23: 16 | B23: =[3]เหล็กเส้นกลม!$B$3 -> เหล็กเส้นกลม dia. 9 มม. (4.99 กก./เส้น) | D23: 11 | E23: =[3]เหล็กเส้นกลม!$C$3 -> กก. | F23: =[3]เหล็กเส้นกลม!$D$3 -> 23.1 | G23: =IF(F23="-","-",D23*F23) -> 254.1 | H23: =[3]เหล็กเส้นกลม!$E$3 -> 2.8 | I23: =IF(H23="-","-",H23*D23) -> 30.8 | J23: =SUM(G23,I23) -> 284.9
A24: 17 | B24: ='[3]อื่น ๆ'!$B$78 -> ลวดสลิงแขวนเครื่องสูบน้ำ dia. 3/8" | D24: 60 | E24: ม. | F24: ='[3]อื่น ๆ'!$D$78 -> 20 | G24: =IF(F24="-","-",D24*F24) -> 1200 | H24: - | I24: - | J24: =SUM(G24,I24) -> 1200
C26: รวมเงิน | G26: =SUM(G8:G25) -> 5461 | I26: =SUM(I8:I25) -> 895.225 | J26: =SUM(J8:J25) -> 6356.225
C27: คิดเป็นเงินค่างาน | J27: =ROUNDDOWN(J26,-1) -> 6350
A31: ประมาณการ | B31: ธันฐกรณ์ คุระแก้ว | D31: เห็นชอบ | E31: ถาวร วิเศษ
B32: นายธันฐกรณ์ คุระแก้ว | E32: (นายถาวร วิเศษ)
B33: ผู้อำนวยการกองช่าง | E33: นายกอบต.พะแสง
E34: คณะกรรมการกำหนดราคากลาง
B35: ..........................................................…… | D35: ....................................... | E35: 1.นายอภินันท์ สัมพันธ์ ตำแหน่ง ผอ.กองช่าง ทต.บ้านตาขุน ประธานกรรมการ
D36: ....................................... | E36: 2.นายธันกรณ์ คุระแก้ว ตำแหน่ง ผอ.กองช่าง อบต.พะแสง กรรมการ
D37: ...................................... | E37: 3.นายพรภิรมย์ ศรีรักษา ตำแหน่ง รองปลัดอบต.พะแสง กรรมการ

Sheet 911005
A1: ประมาณราคาค่าก่อสร้าง | C1: การประสานท่อระหว่างระบบ
A2: ='[2]แบบ ปร.6'!$A$2 -> สถานที่ก่อสร้าง | D2: บ้านบางน้ำเย็น หมู่ที่ ๔ ตำบลพะแสง อำเภอบ้านตาขุน จังหวัดสุราษฎร์ธานี | H2: แบบเลขที่ | I2: 911005
A3: ฝ่ายประมาณราคา | C3: ='[2]แบบ ปร.6'!$A$4 -> สำนักบริหารจัดการน้ำ กรมทรัพยากรน้ำ | G3: และส่วนโยธา อบต.พะแสง
A4: ประมาณการโดย | C4: นายธันฐกรณ์ คุระแก้ว | H4: เมื่อวันที่ | I4: ='[2]ปร.5 บาดาลขนาดใหญ่'!C9 -> 28 ก.ย.28
A6: ลำดับที่ | B6: รายการ | D6: จำนวนหน่วย | F6: ค่าวัสดุ | H6: ค่าแรง | J6: ค่าวัสดุและ | K6: หมายเหตุ
F7: ราคาต่อหน่วย | G7: เป็นเงิน | H7: ราคาต่อหน่วย | I7: เป็นเงิน | J7: ค่าแรงงาน
A8: 1 | B8: =[3]GS.!$B$293 -> ท่อเหล็กอาบสังกะสี dia 4" | D8: 3 | E8: =[3]GS.!$C$293 -> ท่อน | F8: =[3]GS.!$D$293 -> 2670 | G8: =IF(F8="-","-",D8*F8) -> 8010 | H8: =[3]GS.!$E$293 -> 192 | I8: =IF(H8="-","-",H8*D8) -> 576 | J8: =SUM(G8,I8) -> 8586
A9: 2 | B9: =[3]GS.!$B$292 -> ท่อเหล็กอาบสังกะสี dia 3" | D9: 5 | E9: =[3]GS.!$C$292 -> ท่อน | F9: =[3]GS.!$D$292 -> 1832 | G9: =IF(F9="-","-",D9*F9) -> 9160 | H9: =[3]GS.!$E$292 -> 150 | I9: =IF(H9="-","-",H9*D9) -> 750 | J9: =SUM(G9,I9) -> 9910
A10: 3 | B10: =[3]GS.!$B$2 -> ท่อเหล็กอาบสังกะสี+ข้อต่อยาว6ม. dia 1/2" | D10: 1 | E10: =[3]GS.!$C$2 -> ท่อน | F10: =[3]GS.!$D$2 -> 295 | G10: =IF(F10="-","-",D10*F10) -> 295 | H10: =[3]GS.!$E$2 -> 60 | I10: =IF(H10="-","-",H10*D10) -> 60 | J10: =SUM(G10,I10) -> 355
A11: 4 | B11: =[3]PVC1!$B$16 -> ท่อ PVC.ยาว 4 ม. ชั้น 8. 5 ปลายเรียบ dia 3/4" | D11: 1 | E11: =[3]PVC1!$C$16 -> ท่อน | F11: =[3]PVC1!$D$16 -> 50 | G11: =IF(F11="-","-",D11*F11) -> 50 | H11: =[3]PVC1!$E$16 -> 40 | I11: =IF(H11="-","-",H11*D11) -> 40 | J11: =SUM(G11,I11) -> 90
A12: 5 | B12: =[3]GS.!$B$43 -> ข้องอเหล็กอาบสังกะสี 90 ม-ม dia 4" | D12: 1 | E12: =[3]GS.!$C$43 -> ตัว | F12: =[3]GS.!$D$43 -> 314 | G12: =IF(F12="-","-",D12*F12) -> 314 | J12: =SUM(G12,I12) -> 314
A13: 6 | B13: =[3]GS.!$B$42 -> ข้องอเหล็กอาบสังกะสี 90 ม-ม dia 3" | D13: 2 | E13: =[3]GS.!$C$42 -> ตัว | F13: =[3]GS.!$D$42 -> 178 | G13: =IF(F13="-","-",D13*F13) -> 356 | J13: =SUM(G13,I13) -> 356
A14: 7 | B14: =[3]GS.!$B$45 -> ข้องอเหล็กอาบสังกะสี 90 ม-ม dia 6" | D14: 1 | E14: =[3]GS.!$C$45 -> ตัว | F14: =[3]GS.!$D$45 -> 1160 | G14: =IF(F14="-","-",D14*F14) -> 1160 | J14: =SUM(G14,I14) -> 1160
A15: 8 | B15: =[3]GS.!$B$36 -> ข้องอเหล็กอาบสังกะสี 90 ม-ม dia 3/4" | D15: 2 | E15: =[3]GS.!$C$36 -> ตัว | F15: =[3]GS.!$D$36 -> 14 | G15: =IF(F15="-","-",D15*F15) -> 28 | J15: =SUM(G15,I15) -> 28
A16: 9 | B16: =[3]GS.!$B$35 -> ข้องอเหล็กอาบสังกะสี 90 ม-ม dia 1/2" | D16: 1 | E16: =[3]GS.!$C$35 -> ตัว | F16: =[3]GS.!$D$35 -> 10 | G16: =IF(F16="-","-",D16*F16) -> 10 | J16: =SUM(G16,I16) -> 10
A17: 10 | B17: =[3]เหล็กหล่อ!$B$75 -> ข้อโค้งเหล็กหล่อ 45 หน้าจาน 2 ด้าน dia 4" | D17: 4 | E17: =[3]เหล็กหล่อ!$C$75 -> ตัว | F17: =[3]เหล็กหล่อ!$D$75 -> 1640 | G17: =IF(F17="-","-",D17*F17) -> 6560 | J17: =SUM(G17,I17) -> 6560
A18: 11 | B18: =[3]เหล็กหล่อ!$B$74 -> ข้อโค้งเหล็กหล่อ 45 หน้าจาน 2 ด้าน dia 3" | D18: 4 | E18: =[3]เหล็กหล่อ!$C$74 -> ตัว | F18: =[3]เหล็กหล่อ!$D$74 -> 1375 | G18: =IF(F18="-","-",D18*F18) -> 5500 | J18: =SUM(G18,I18) -> 5500
A19: 12 | B19: =[3]เหล็กหล่อ!$B$35 -> ข้อโค้งเหล็กหล่อ 90 หน้าจาน 2 ด้าน dia 3" | D19: 1 | E19: =[3]เหล็กหล่อ!$C$35 -> ตัว | F19: =[3]เหล็กหล่อ!$D$35 -> 1250 | G19: =IF(F19="-","-",D19*F19) -> 1250 | J19: =SUM(G19,I19) -> 1250
A20: 13 | B20: =[3]เหล็กหล่อ!$B$284 -> สามทางเหล็กหล่อหน้าจาน 3 ด้าน dia 4" | D20: 1 | E20: =[3]เหล็กหล่อ!$C$284 -> ตัว | F20: =[3]เหล็กหล่อ!$D$284 -> 1990 | G20: =IF(F20="-","-",D20*F20) -> 1990 | I20: 7000 | J20: =SUM(G20,I20) -> 8990
A21: 14 | B21: =[3]GS.!$B$177 -> สามทางลดเหล็กอาบสังกะสี dia 4" | D21: 2 | E21: =[3]GS.!$C$177 -> ตัว | F21: 430 | G21: =IF(F21="-","-",D21*F21) -> 860 | J21: =SUM(G21,I21) -> 860
A22: 15 | B22: =[3]GS.!$B$176 -> สามทางลดเหล็กอาบสังกะสี dia 3" | D22: 1 | E22: =[3]GS.!$C$176 -> ตัว | F22: =[3]GS.!$D$176 -> 258 | G22: =IF(F22="-","-",D22*F22) -> 258 | J22: =SUM(G22,I22) -> 258
A23: 16 | B23: =[3]PVC1!$B$180 -> ข้อต่อเกลียวนอก PVC. ชั้น 13.5 dia 3/4" | D23: 1 | E23: =[3]PVC1!$C$180 -> ตัว | F23: =[3]PVC1!$D$180 -> 4 | G23: =IF(F23="-","-",D23*F23) -> 4 | J23: =SUM(G23,I23) -> 4
A24: 17 | B24: =[3]เหล็กหล่อ!$B$367 -> หน้าจานเหล็กเหนียว dia 4" | D24: 10 | E24: =[3]เหล็กหล่อ!$C$367 -> ตัว | F24: =[3]เหล็กหล่อ!$D$367 -> 320 | G24: =IF(F24="-","-",D24*F24) -> 3200 | J24: =SUM(G24,I24) -> 3200
A25: 18 | B25: =[3]เหล็กหล่อ!$B$366 -> หน้าจานเหล็กเหนียว dia 3" | D25: 14 | E25: =[3]เหล็กหล่อ!$C$366 -> ตัว | F25: =[3]เหล็กหล่อ!$D$366 -> 280 | G25: =IF(F25="-","-",D25*F25) -> 3920 | J25: =SUM(G25,I25) -> 3920
A26: 19 | B26: =[3]GS.!$B$254 -> ประเก็นยาง dia 4" | D26: 10 | E26: =[3]GS.!$C$254 -> แผ่น | F26: =[3]GS.!$D$254 -> 28 | G26: =IF(F26="-","-",D26*F26) -> 280 | J26: =SUM(G26,I26) -> 280
A27: 20 | B27: =[3]GS.!$B$253 -> ประเก็นยาง dia 3" | D27: 18 | E27: =[3]GS.!$C$253 -> แผ่น | F27: =[3]GS.!$D$253 -> 20 | G27: =IF(F27="-","-",D27*F27) -> 360 | J27: =SUM(G27,I27) -> 360
A28: 21 | B28: =[3]ก๊อกน้ำ!$B$5 -> ก๊อกน้ำทองเหลือง dia 3/4" | D28: 1 | E28: ตัว | F28: =[3]ก๊อกน้ำ!$D$5 -> 320 | G28: =IF(F28="-","-",D28*F28) -> 320 | J28: =SUM(G28,I28) -> 320
A29: 22 | B29: =[3]GS.!$B$272 -> น๊อตยึดหน้าจาน | D29: 144 | E29: =[3]GS.!$C$272 -> ตัว | F29: =[3]GS.!$D$272 -> 20 | G29: =IF(F29="-","-",D29*F29) -> 2880 | J29: =SUM(G29,I29) -> 2880
A30: 23 | B30: ='[3]อื่น ๆ'!$B$21 -> ทำเกลียว | D30: 15 | E30: ='[3]อื่น ๆ'!$C$21 -> จุด | F30: ='[3]อื่น ๆ'!$E$21 -> 10 | G30: =IF(F30="-","-",D30*F30) -> 150 | J30: =SUM(G30,I30) -> 150
A31: 24 | B31: =[3]ประตูน้ำ!$B$52 -> ประตูน้ำเหล็กหล่อบนดิน หน้าจาน dia 4" แบบพวงมาลัย | D31: 1 | E31: =[3]ประตูน้ำ!$C$52 -> ชุด | F31: =[3]ประตูน้ำ!$D$52 -> 7630 | G31: =IF(F31="-","-",D31*F31) -> 7630 | J31: =SUM(G31,I31) -> 7630
A32: 25 | B32: =[3]มาตรวัดน้ำ!$B$11 -> มาตรวัดน้ำ (ใบพัด 2 ชั้น) dia 4" | D32: 1 | E32: =[3]มาตรวัดน้ำ!$C$11 -> ชุด | F32: =[3]มาตรวัดน้ำ!$D$11 -> 19500 | G32: =IF(F32="-","-",D32*F32) -> 19500 | J32: =SUM(G32,I32) -> 19500
C34: รวมเงิน | G34: =SUM(G8:G33) -> 74045 | I34: =SUM(I8:I33) -> 8426 | J34: =SUM(J8:J33) -> 82471
C35: คิดเป็นเงินค่างาน | J35: =ROUNDDOWN(J34,-1) -> 82470
A38: ประมาณการ | B38: ธันฐกรณ์ คุระแก้ว | D38: เห็นชอบ | E38: ถาวร วิเศษ
B39: นายธันฐกรณ์ คุระแก้ว | E39: (นายถาวร วิเศษ)
B40: ผู้อำนวยการกองช่าง | E40: นายกอบต.พะแสง
E41: คณะกรรมการกำหนดราคากลาง
B42: ..........................................................…… | D42: ....................................... | E42: 1.นายอภินันท์ สัมพันธ์ ตำแหน่ง ผอ.กองช่าง ทต.บ้านตาขุน ประธานกรรมการ
D43: ....................................... | E43: 2.นายธันกรณ์ คุระแก้ว ตำแหน่ง ผอ.กองช่าง อบต.พะแสง กรรมการ
D44: ...................................... | E44: 3.นายพรภิรมย์ ศรีรักษา ตำแหน่ง รองปลัดอบต.พะแสง กรรมการ

Sheet เครื่องสูบน้ำดิบ
A1: ประมาณราคาค่าก่อสร้าง | C1: การติดตั้งเครื่องสูบน้ำพร้อมตู้ควบคุม
A2: ='[4]แบบ ปร.6'!$A$2 -> สถานที่ก่อสร้าง | D2: บ้านบางน้ำเย็น หมู่ที่ ๔ ตำบลพะแสง อำเภอบ้านตาขุน จังหวัดสุราษฎร์ธานี | I2: รายการฯ เฉพาะแห่ง
A3: ฝ่ายประมาณราคา | C3: ='[4]แบบ ปร.6'!$A$4 -> สำนักบริหารจัดการน้ำ กรมทรัพยากรน้ำ | G3: และส่วนโยธา อบต.พะแสง
A4: ประมาณการโดย | C4: นายธันฐกรณ์ คุระแก้ว | H4: เมื่อวันที่ | I4: ='[2]ปร.5 บาดาลขนาดใหญ่'!C9 -> 28 ก.ย.28
A6: ลำดับที่ | B6: รายการ | D6: จำนวนหน่วย | F6: ค่าวัสดุ | H6: ค่าแรง | J6: ค่าวัสดุและ | K6: หมายเหตุ
F7: ราคาต่อหน่วย | G7: เป็นเงิน | H7: ราคาต่อหน่วย | I7: เป็นเงิน | J7: ค่าแรงงาน
A8: 1 | B8: เครื่องสูบน้ำบาดาลแบบ submersible
B9: ขนาด 3 แรงม้า 1 เฟส (2.2 kW) พร้อมอุปกรณ์ | D9: 1 | E9: =[3]เครื่องสูบน้ำหอยโข่ง!$C$6 -> เครื่อง | F9: =[3]ซับเมิส!$D$6 -> 32500 | G9: =IF(F9="-","-",D9*F9) -> 32500 | H9: - | I9: =IF(H9="-","-",H9*D9) -> - | J9: =SUM(G9,I9) -> 32500
C10: รวมเงิน (1) | G10: =SUM(G8:G9) -> 32500 | I10: =SUM(I8:I9) -> 0 | J10: =SUM(G10,I10) -> 32500
C11: คิดเป็นเงิน | G11: =G10 -> 32500 | I11: =I10 -> 0 | J11: =SUM(G11,I11) -> 32500
A12: 2 | B12: ค่าแรงและติดตั้ง | D12: 1 | E12: เครื่อง | F12: - | G12: - | H12: =[3]ซับเมิส!$E$2 -> 2500 | I12: =IF(H12="-","-",H12*D12) -> 2500 | J12: =SUM(G12,I12) -> 2500
A13: 3 | B13: ตู้ควบคุมเครื่องสูบน้ำบาดาลขนาด 3 แรงม้า
B14: 1 เฟส (2.2 kW) พร้อมอุปกรณ์ | D14: 1 | E14: =[3]ตู้ควบคุมหอยโข่ง!$C$4 -> ตู้ | F14: =[3]ตู้ควบคุมซับเมิส!$D$5 -> 9000 | G14: =IF(F14="-","-",D14*F14) -> 9000 | H14: =[3]ตู้ควบคุมซับเมิส!$E$5 -> 1000 | I14: =IF(H14="-","-",H14*D14) -> 1000 | J14: =SUM(G14,I14) -> 10000
C15: รวมเงิน (2+3) | G15: =SUM(G13:G14) -> 9000 | I15: =SUM(I12:I14) -> 3500 | J15: =SUM(J12:J14) -> 12500
C16: คิดเป็นเงิน | G16: =G15 -> 9000 | I16: =I15 -> 3500 | J16: =J15 -> 12500
C17: คิดเป็นเงินค่างาน | G17: =G16+G11 -> 41500 | I17: =I16+I11 -> 3500 | J17: =J16+J11 -> 45000
A22: ประมาณการ | B22: ธันฐกรณ์ คุระแก้ว | D22: เห็นชอบ | E22: ถาวร วิเศษ
B23: นายธันฐกรณ์ คุระแก้ว | E23: (นายถาวร วิเศษ)
B24: ผู้อำนวยการกองช่าง | E24: นายกอบต.พะแสง
E25: คณะกรรมการกำหนดราคากลาง
B26: ..........................................................…… | D26: ....................................... | E26: 1.นายอภินันท์ สัมพันธ์ ตำแหน่ง ผอ.กองช่าง ทต.บ้านตาขุน ประธานกรรมการ
D27: ....................................... | E27: 2.นายธันกรณ์ คุระแก้ว ตำแหน่ง ผอ.กองช่าง อบต.พะแสง กรรมการ
D28: ...................................... | E28: 3.นายพรภิรมย์ ศรีรักษา ตำแหน่ง รองปลัดอบต.พะแสง กรรมการ

Sheet เครื่องสูบน้ำดี
A1: ประมาณราคาค่าก่อสร้าง | C1: การติดตั้งเครื่องสูบน้ำพร้อมตู้ควบคุม
A2: ='[4]แบบ ปร.6'!$A$2 -> สถานที่ก่อสร้าง | C2: บ้านบางน้ำเย็น หมู่ที่ ๔ ตำบลพะแสง อำเภอบ้านตาขุน จังหวัดสุราษฎร์ธานี | H2: แบบเลขที่ | I2: รายการฯ เฉพาะแห่ง
A3: ฝ่ายประมาณราคา | C3: ='[4]แบบ ปร.6'!$A$4 -> สำนักบริหารจัดการน้ำ กรมทรัพยากรน้ำ | H3: และส่วนโยธา อบต.พะแสง
A4: ประมาณการโดย | B4: นายธันฐกรณ์ คุระแก้ว | H4: เมื่อวันที่ | I4: ='[2]ปร.5 บาดาลขนาดใหญ่'!C9 -> 28 ก.ย.28
A6: ลำดับที่ | B6: รายการ | D6: จำนวนหน่วย | F6: ค่าวัสดุ | H6: ค่าแรง | J6: ค่าวัสดุและ | K6: หมายเหตุ
F7: ราคาต่อหน่วย | G7: เป็นเงิน | H7: ราคาต่อหน่วย | I7: เป็นเงิน | J7: ค่าแรงงาน
A8: 1 | B8: เครื่องสูบน้ำหอยโข่งขนาด 3 แรงม้า
B9: 1 เฟส (2.2 kW) พร้อมอุปกรณ์ | D9: 2 | E9: =[3]เครื่องสูบน้ำหอยโข่ง!$C$7 -> เครื่อง | F9: =[3]เครื่องสูบน้ำหอยโข่ง!$D$7 -> 15800 | G9: =IF(F9="-","-",D9*F9) -> 31600 | H9: - | I9: =IF(H9="-","-",H9*D9) -> - | J9: =SUM(G9,I9) -> 31600
C10: รวมเงิน (1) | G10: =SUM(G8:G9) -> 31600 | I10: =SUM(I8:I9) -> 0 | J10: =SUM(G10,I10) -> 31600
C11: คิดเป็นเงิน | G11: =G10 -> 31600 | I11: =I10 -> 0 | J11: =SUM(G11,I11) -> 31600
A12: 2 | B12: ค่าแรงและติดตั้ง | D12: 2 | E12: เครื่อง | F12: - | G12: - | H12: 1000 | I12: =IF(H12="-","-",H12*D12) -> 2000 | J12: =SUM(G12,I12) -> 2000
A13: 3 | B13: ตู้ควบคุมเครื่องสูบน้ำหอยโข่งขนาด 3 แรงม้า
B14: 1 เฟส (2.2 kW) พร้อมอุปกรณ์ | D14: 2 | E14: =[3]ตู้ควบคุมหอยโข่ง!$C$5 -> ตู้ | F14: =[3]ตู้ควบคุมหอยโข่ง!$D$5 -> 9000 | G14: =IF(F14="-","-",D14*F14) -> 18000 | H14: =[3]ตู้ควบคุมหอยโข่ง!$E$5 -> 1000 | I14: =IF(H14="-","-",H14*D14) -> 2000 | J14: =SUM(G14,I14) -> 20000
C15: รวมเงิน (2+3) | G15: =SUM(G13:G14) -> 18000 | I15: =SUM(I12:I14) -> 4000 | J15: =SUM(J12:J14) -> 22000
C16: คิดเป็นเงิน | G16: =G15 -> 18000 | I16: =I15 -> 4000 | J16: =J15 -> 22000
C17: คิดเป็นเงินค่างาน | G17: =G16+G11 -> 49600 | I17: =I16+I11 -> 4000 | J17: =J16+J11 -> 53600
A21: ประมาณการ | B21: ธันฐกรณ์ คุระแก้ว | D21: เห็นชอบ | E21: ถาวร วิเศษ
B22: นายธันฐกรณ์ คุระแก้ว | E22: (นายถาวร วิเศษ)
B23: ผู้อำนวยการกองช่าง | E23: นายกอบต.พะแสง
E24: คณะกรรมการกำหนดราคากลาง
B25: ..........................................................…… | D25: ....................................... | E25: 1.นายอภินันท์ สัมพันธ์ ตำแหน่ง ผอ.กองช่าง ทต.บ้านตาขุน ประธานกรรมการ
D26: ....................................... | E26: 2.นายธันกรณ์ คุระแก้ว ตำแหน่ง ผอ.กองช่าง อบต.พะแสง กรรมการ
D27: ...................................... | E27: 3.นายพรภิรมย์ ศรีรักษา ตำแหน่ง รองปลัดอบต.พะแสง กรรมการ

Sheet ระบบท่อส่งน้ำดิบ
A1: ประมาณราคาค่าก่อสร้าง | C1: ระบบท่อส่งน้ำดิบ
A2: ='[1]แบบ ปร.6'!$A$2 -> สถานที่ก่อสร้าง | B2: บ้านบางน้ำเย็น หมู่ที่ ๔ ตำบลพะแสง อำเภอบ้านตาขุน จังหวัดสุราษฎร์ธานี | H2: แบบเลขที่
A3: ฝ่ายประมาณราคา | B3: ='[1]แบบ ปร.6'!$A$4 -> สำนักบริหารจัดการน้ำ กรมทรัพยากรน้ำ | C3: และส่วนโยธา อบต.พะแสง
A4: ประมาณการโดย | B4: นายธันฐกรณ์ คุระแก้ว | H4: เมื่อวันที่ | I4: ='[2]ปร.5 บาดาลขนาดใหญ่'!C9 -> 28 ก.ย.28
A6: ลำดับที่ | B6: รายการ | D6: จำนวนหน่วย | F6: ค่าวัสดุ | H6: ค่าแรง | J6: ค่าวัสดุและ | K6: หมายเหตุ
F7: ราคาต่อหน่วย | G7: เป็นเงิน | H7: ราคาต่อหน่วย | I7: เป็นเงิน | J7: ค่าแรงงาน
B8: 1. การเดินท่อส่งน้ำดิบจากเครื่องสูบน้ำดิบไปยังที่ตั้งระบบประปา
A9: 1.1 | B9: =[3]GS.!$B$9 -> ท่อเหล็กอาบสังกะสี+ข้อต่อยาว6ม. dia 3" | D9: 10 | E9: =[3]GS.!$C$9 -> ท่อน | F9: =[3]GS.!$D$9 -> 1960 | G9: =IF(F9="-","-",D9*F9) -> 19600 | H9: =[3]GS.!$E$9 -> 150 | I9: =IF(H9="-","-",D9*H9) -> 1500 | J9: =SUM(G9,I9) -> 21100
A10: 1.2 | B10: =[3]GS.!$B$7 -> ท่อเหล็กอาบสังกะสี+ข้อต่อยาว6ม. dia 2" | E10: =[3]GS.!$C$7 -> ท่อน | F10: - | G10: =IF(F10="-","-",D10*F10) -> - | H10: - | I10: =IF(H10="-","-",D10*H10) -> - | J10: =SUM(G10,I10) -> 0
A11: 1.3 | B11: =[3]GS.!$B$64 -> ข้อโค้งเหล็กอาบสังกะสี 90 ม-ม dia 3" | D11: 2 | E11: =[3]GS.!$C$64 -> ตัว | F11: =[3]GS.!$D$64 -> 426 | G11: =IF(F11="-","-",D11*F11) -> 852 | H11: =[3]GS.!$E$64 -> - | I11: =IF(H11="-","-",D11*H11) -> - | J11: =SUM(G11,I11) -> 852
A12: 1.4 | B12: =[3]GS.!$B$62 -> ข้อโค้งเหล็กอาบสังกะสี 90 ม-ม dia 2" | E12: =[3]GS.!$C$62 -> ตัว | F12: - | G12: =IF(F12="-","-",D12*F12) -> - | H12: =[3]GS.!$E$62 -> - | I12: =IF(H12="-","-",D12*H12) -> - | J12: =SUM(G12,I12) -> 0
B14: 2. การเดินจากฟุตวาล์วของท่อดูดไปยังปากท่อดูดของเครื่องสูบน้ำดิบ
A15: 2.1 | B15: ท่อ API. หรือ ASTM x 10 ฟุต+ข้อต่อ dia 2" | D15: 10 | E15: =[3]GS.!$C$9 -> ท่อน | F15: =[3]GS.!$D$286 -> 826 | G15: =IF(F15="-","-",D15*F15) -> 8260 | H15: =[3]GS.!$E$286 -> 100 | I15: =IF(H15="-","-",D15*H15) -> 1000 | J15: =SUM(G15,I15) -> 9260
A16: 2.2 | B16: =[3]GS.!$B$64 -> ข้อโค้งเหล็กอาบสังกะสี 90 ม-ม dia 3" | E16: =[3]GS.!$C$64 -> ตัว | F16: - | G16: =IF(F16="-","-",D16*F16) -> - | H16: - | I16: =IF(H16="-","-",D16*H16) -> - | J16: =SUM(G16,I16) -> 0
A17: 2.3 | B17: =[3]ฟุตวาล์ว!$B$9 -> ฟุตวาล์วทองเหลือง dia 3" | E17: =[3]ฟุตวาล์ว!$C$9 -> ชุด | F17: - | G17: =IF(F17="-","-",D17*F17) -> - | H17: - | I17: =IF(H17="-","-",D17*H17) -> - | J17: =SUM(G17,I17) -> 0
B19: 3. เสารับท่อส่งน้ำดิบ
A20: 3.1 | B20: ='[3]อื่น ๆ'!$B$54 -> ลวดหนาม เบอร์ 12 dia. 2.64 มม. | E20: ='[3]อื่น ๆ'!$C$55 -> ชุด | F20: 0 | G20: =IF(F20="-","-",D20*F20) -> 0 | H20: - | I20: =IF(H20="-","-",D20*H20) -> - | J20: =SUM(G20,I20) -> 0
A21: 3.2 | B21: ='[3]อื่น ๆ'!$B$55 -> ลูกกรงและราวลูกกรงชานพัก พร้อมติดตั้ง | E21: ='[3]อื่น ๆ'!$C$59 -> ช่วง | F21: - | G21: =IF(F21="-","-",D21*F21) -> - | H21: - | I21: =IF(H21="-","-",D21*H21) -> - | J21: =SUM(G21,I21) -> 0
B23: 4. อุปกรณ์อื่น ๆ
A24: 4.1 | B24: =[3]งานไฟฟ้า!$B$14 -> สายไฟฟ้าชนิดอ่อน PVC แรงดัน 750 โวลว์ dia 4 ตร.ม. | D24: 55 | E24: =[3]งานไฟฟ้า!$C$14 -> ม. | F24: =[3]งานไฟฟ้า!$D$14 -> 72 | G24: =IF(F24="-","-",D24*F24) -> 3960 | H24: - | I24: =IF(H24="-","-",D24*H24) -> - | J24: =SUM(G24,I24) -> 3960
A25: 4.2 | B25: =[3]งานไฟฟ้า!$B$15 -> ท่อ PVC ร้อยสายไฟฟ้า dia 3/4" | D25: 7 | E25: =[3]งานไฟฟ้า!$C$15 -> ท่อน | F25: 50 | G25: =IF(F25="-","-",D25*F25) -> 350 | H25: =[3]งานไฟฟ้า!$E$15 -> 10 | I25: =IF(H25="-","-",D25*H25) -> 70 | J25: =SUM(G25,I25) -> 420
C27: รวมเงิน | G27: =SUM(G9:G25) -> 33022 | I27: =SUM(I9:I25) -> 2570 | J27: =SUM(J9:J25) -> 35592
C28: คิดเป็นเงินค่างาน | J28: =ROUNDDOWN(J27,-1) -> 35590
A31: ประมาณการ | B31: ธันฐกรณ์ คุระแก้ว | D31: เห็นชอบ | E31: ถาวร วิเศษ
B32: นายธันฐกรณ์ คุระแก้ว | E32: (นายถาวร วิเศษ)
B33: ผู้อำนวยการกองช่าง | E33: นายกอบต.พะแสง
E34: คณะกรรมการกำหนดราคากลาง
B35: ..........................................................…… | D35: ....................................... | E35: 1.นายอภินันท์ สัมพันธ์ ตำแหน่ง ผอ.กองช่าง ทต.บ้านตาขุน ประธานกรรมการ
D36: ....................................... | E36: 2.นายธันกรณ์ คุระแก้ว ตำแหน่ง ผอ.กองช่าง อบต.พะแสง กรรมการ
D37: ...................................... | E37: 3.นายพรภิรมย์ ศรีรักษา ตำแหน่ง รองปลัดอบต.พะแสง กรรมการ

Sheet 921001
A1: ประมาณราคาค่าก่อสร้าง | C1: รั้ว-ประตูรั้ว (20X20 ม.)
A2: ='[6]แบบ ปร.6'!$A$2 -> สถานที่ก่อสร้าง | B2: บ้านบางน้ำเย็น หมู่ที่ ๔ ตำบลพะแสง อำเภอบ้านตาขุน จังหวัดสุราษฎร์ธานี | H2: แบบเลขที่ | I2: 921001
A3: ฝ่ายประมาณราคา | C3: ='[6]แบบ ปร.6'!$A$4 -> สำนักบริหารจัดการน้ำ กรมทรัพยากรน้ำ | F3: และส่วนโยธา อบต.พะแสง
A4: ประมาณการโดย | C4: นายธันฐกรณ์ คุระแก้ว | H4: เมื่อวันที่ | I4: ='[2]ปร.5 บาดาลขนาดใหญ่'!C9 -> 28 ก.ย.28
A6: ลำดับที่ | B6: รายการ | D6: จำนวนหน่วย | F6: ค่าวัสดุ | H6: ค่าแรง | J6: ค่าวัสดุและ | K6: หมายเหตุ
F7: ราคาต่อหน่วย | G7: เป็นเงิน | H7: ราคาต่อหน่วย | I7: เป็นเงิน | J7: ค่าแรงงาน
B8: 1. เสา/บานประตูรั้ว
A9: 1.1 | B9: =[3]งานดิน!$B$2 -> ขุดดินหลุมฐานราก/ถมคืน | D9: 0.4 | E9: =[3]งานดิน!$C$2 -> ลบ.ม. | F9: - | G9: =IF(F9="-","-",D9*F9) -> - | H9: =[3]งานดิน!$E$2 -> 81 | I9: =IF(H9="-","-",H9*D9) -> 32.4 | J9: =SUM(G9,I9) -> 32.4
A10: 1.2 | B10: =[3]งานดิน!$B$6 -> ทรายหยาบ,ทรายหยาบรองพื้น | D10: 0.05 | E10: =[3]งานดิน!$C$6 -> ลบ.ม. | F10: =[3]งานดิน!$D$6 -> 360 | G10: =IF(F10="-","-",D10*F10) -> 18 | H10: =[3]งานดิน!$E$6 -> 59 | I10: =IF(H10="-","-",H10*D10) -> 2.95 | J10: =SUM(G10,I10) -> 20.95
A11: 1.3 | B11: =[3]งานคอนกรีต!$B$2 -> คอนกรีต 1 : 3 : 5 | D11: 0.053 | E11: =[3]งานคอนกรีต!$C$2 -> ลบ.ม. | F11: =[3]งานคอนกรีต!$D$2 -> 1330 | G11: =IF(F11="-","-",D11*F11) -> 70.49 | H11: =[3]งานคอนกรีต!$E$2 -> 316 | I11: =IF(H11="-","-",H11*D11) -> 16.748 | J11: =SUM(G11,I11) -> 87.238
A12: 1.4 | B12: =[3]งานคอนกรีต!$B$3 -> คอนกรีต 1 : 2 : 4 (ซีเมนต์ไม่น้อยกว่า 320 กก/ลบ.ม.) | D12: 0.315 | E12: =[3]งานคอนกรีต!$C$3 -> ลบ.ม. | F12: =[3]งานคอนกรีต!$D$3 -> 1610 | G12: =IF(F12="-","-",D12*F12) -> 507.15 | H12: =[3]งานคอนกรีต!$E$3 -> 395 | I12: =IF(H12="-","-",H12*D12) -> 124.425 | J12: =SUM(G12,I12) -> 631.575
A13: 1.5 | B13: =[3]เหล็กเส้นกลม!$B$9 -> เหล็กเสริม | D13: 47.61 | E13: =[3]เหล็กเส้นกลม!$C$9 -> กก. | F13: =[3]เหล็กเส้นกลม!$D$9 -> 22.56 | G13: =IF(F13="-","-",D13*F13) -> 1074.0816 | H13: =[3]เหล็กเส้นกลม!$E$9 -> 2.8 | I13: =IF(H13="-","-",H13*D13) -> 133.308 | J13: =SUM(G13,I13) -> 1207.3896
A14: 1.6 | B14: =[3]เหล็กเส้นกลม!$B$8 -> ลวดผูกเหล็ก No 18 | D14: 0.7 | E14: =[3]เหล็กเส้นกลม!$C$8 -> กก. | F14: =[3]เหล็กเส้นกลม!$D$8 -> 31 | G14: =IF(F14="-","-",D14*F14) -> 21.7 | H14: =[3]เหล็กเส้นกลม!$E$8 -> - | I14: =IF(H14="-","-",H14*D14) -> - | J14: =SUM(G14,I14) -> 21.7
A15: 1.7 | B15: =[3]GS.!$B$6 -> ท่อเหล็กอาบสังกะสี+ข้อต่อยาว6ม. dia 1 1/2" | D15: 3 | E15: =[3]GS.!$C$6 -> ท่อน | F15: =[3]GS.!$D$6 -> 847 | G15: =IF(F15="-","-",D15*F15) -> 2541 | J15: =SUM(G15,I15) -> 2541
A16: 1.8 | B16: =[3]งานประตูหน้าต่าง!$B$21 -> ลวดตาข่ายสี่เหลี่ยมขนมเปียกปูน dia. 3 มม. ขนาดช่อง 38 มม. | D16: 5.25 | E16: =[3]งานประตูหน้าต่าง!$C$21 -> ตร.ม. | F16: =[3]งานประตูหน้าต่าง!$D$21 -> 110 | G16: =IF(F16="-","-",D16*F16) -> 577.5 | J16: =SUM(G16,I16) -> 577.5
A17: 1.9 | B17: =[3]งานประตูหน้าต่าง!$B$11 -> บุ๊ชสลักติดบานประตู dia. 1 1/2 นิ้ว | D17: 6 | E17: =[3]งานประตูหน้าต่าง!$C$11 -> ตัว | F17: =[3]งานประตูหน้าต่าง!$D$11 -> 95 | G17: =IF(F17="-","-",D17*F17) -> 570 | I17: 650 | J17: =SUM(G17,I17) -> 1220
A18: 1.1 | B18: =[3]งานประตูหน้าต่าง!$B$17 -> กลอนเหล็กและกุญแจ | D18: 2 | E18: =[3]งานประตูหน้าต่าง!$C$17 -> ชุด | F18: =[3]งานประตูหน้าต่าง!$D$17 -> 280 | G18: =IF(F18="-","-",D18*F18) -> 560 | J18: =SUM(G18,I18) -> 560
A19: 1.11 | B19: ='[3]งานผิวผนัง-ผิวพื้น'!$B$2 -> ฉาบปูนเรียบธรรมดา | D19: 3 | E19: ='[3]งานผิวผนัง-ผิวพื้น'!$C$2 -> ตร.ม. | F19: ='[3]งานผิวผนัง-ผิวพื้น'!$D$2 -> 55 | G19: =IF(F19="-","-",D19*F19) -> 165 | H19: ='[3]งานผิวผนัง-ผิวพื้น'!$E$2 -> 70 | I19: =IF(H19="-","-",H19*D19) -> 210 | J19: =SUM(G19,I19) -> 375
A20: 1.12 | B20: =[3]งานทาสี!$B$2 -> ทาสีน้ำพลาสติก | D20: 3 | E20: =[3]งานทาสี!$C$2 -> ตร.ม. | F20: =[3]งานทาสี!$D$2 -> 35 | G20: =IF(F20="-","-",D20*F20) -> 105 | H20: =[3]งานทาสี!$E$2 -> 30 | I20: =IF(H20="-","-",H20*D20) -> 90 | J20: =SUM(G20,I20) -> 195
A21: 1.13 | B21: =[3]งานทาสี!$B$3 -> ทาสีน้ำมัน | D21: 2 | E21: =[3]งานทาสี!$C$3 -> ตร.ม. | F21: =[3]งานทาสี!$D$3 -> 45 | G21: =IF(F21="-","-",D21*F21) -> 90 | H21: =[3]งานทาสี!$E$3 -> 35 | I21: =IF(H21="-","-",H21*D21) -> 70 | J21: =SUM(G21,I21) -> 160
A22: 1.14 | B22: =[3]งานแบบหล่อ!$B$3 -> ไม้แบบหล่อคอนกรีตทั่วไป 80 % พร้อมไม้คร่าว | D22: 1.14 | E22: =[3]งานแบบหล่อ!$C$3 -> ตร.ม. | F22: =[3]งานแบบหล่อ!$D$3 -> 502 | G22: =IF(F22="-","-",D22*F22) -> 572.28 | H22: =[3]งานแบบหล่อ!$E$3 -> 105 | I22: =IF(H22="-","-",H22*D22) -> 119.7 | J22: =SUM(G22,I22) -> 691.98
A23: 1.15 | B23: =[3]งานแบบหล่อ!$B$6 -> ตะปู | D23: 0.2 | E23: =[3]งานแบบหล่อ!$C$6 -> กก. | F23: =[3]งานแบบหล่อ!$D$6 -> 28 | G23: =IF(F23="-","-",D23*F23) -> 5.6 | H23: =[3]งานแบบหล่อ!$E$6 -> - | I23: =IF(H23="-","-",H23*D23) -> - | J23: =SUM(G23,I23) -> 5.6
C25: รวมเงิน (1) | G25: =ROUNDDOWN(SUM(G9:G24),0) -> 6877 | I25: =ROUNDDOWN(SUM(I9:I24),0) -> 1449 | J25: =ROUNDDOWN(SUM(J9:J24),0) -> 8327
B27: 2. เสามุมรั้วต่อ 1 ต้น
A28: 2.1 | B28: =[3]งานดิน!$B$2 -> ขุดดินหลุมฐานราก/ถมคืน | D28: 0.2 | E28: =[3]งานดิน!$C$2 -> ลบ.ม. | F28: - | G28: =IF(F28="-","-",D28*F28) -> - | H28: =[3]งานดิน!$E$2 -> 81 | I28: =IF(H28="-","-",H28*D28) -> 16.2 | J28: =SUM(G28,I28) -> 16.2
A29: 2.2 | B29: =[3]งานดิน!$B$6 -> ทรายหยาบ,ทรายหยาบรองพื้น | D29: 0.025 | E29: =[3]งานดิน!$C$6 -> ลบ.ม. | F29: =[3]งานดิน!$D$6 -> 360 | G29: =IF(F29="-","-",D29*F29) -> 9 | H29: =[3]งานดิน!$E$6 -> 59 | I29: =IF(H29="-","-",H29*D29) -> 1.475 | J29: =SUM(G29,I29) -> 10.475
A30: 2.3 | B30: =[3]งานคอนกรีต!$B$2 -> คอนกรีต 1 : 3 : 5 | D30: 0.03 | E30: =[3]งานคอนกรีต!$C$2 -> ลบ.ม. | F30: =[3]งานคอนกรีต!$D$2 -> 1330 | G30: =IF(F30="-","-",D30*F30) -> 39.9 | H30: =[3]งานคอนกรีต!$E$2 -> 316 | I30: =IF(H30="-","-",H30*D30) -> 9.48 | J30: =SUM(G30,I30) -> 49.38
A31: 2.4 | B31: =[3]งานคอนกรีต!$B$3 -> คอนกรีต 1 : 2 : 4 (ซีเมนต์ไม่น้อยกว่า 320 กก/ลบ.ม.) | D31: 0.14 | E31: =[3]งานคอนกรีต!$C$3 -> ลบ.ม. | F31: =[3]งานคอนกรีต!$D$3 -> 1610 | G31: =IF(F31="-","-",D31*F31) -> 225.4 | H31: =[3]งานคอนกรีต!$E$3 -> 395 | I31: =IF(H31="-","-",H31*D31) -> 55.3 | J31: =SUM(G31,I31) -> 280.7
A32: 2.5 | B32: =[3]เหล็กเส้นกลม!$B$9 -> เหล็กเสริม | D32: 29.91 | E32: =[3]เหล็กเส้นกลม!$C$9 -> กก. | F32: =[3]เหล็กเส้นกลม!$D$9 -> 22.56 | G32: =IF(F32="-","-",D32*F32) -> 674.7696 | H32: =[3]เหล็กเส้นกลม!$E$9 -> 2.8 | I32: =IF(H32="-","-",H32*D32) -> 83.748 | J32: =SUM(G32,I32) -> 758.5176
A33: 2.6 | B33: =[3]เหล็กเส้นกลม!$B$8 -> ลวดผูกเหล็ก No 18 | D33: 0.4 | E33: =[3]เหล็กเส้นกลม!$C$8 -> กก. | F33: =[3]เหล็กเส้นกลม!$D$8 -> 31 | G33: =IF(F33="-","-",D33*F33) -> 12.4 | H33: =[3]เหล็กเส้นกลม!$E$8 -> - | I33: =IF(H33="-","-",H33*D33) -> - | J33: =SUM(G33,I33) -> 12.4
A34: 2.7 | B34: ='[3]งานผิวผนัง-ผิวพื้น'!$B$2 -> ฉาบปูนเรียบธรรมดา | D34: 1.5 | E34: ='[3]งานผิวผนัง-ผิวพื้น'!$C$2 -> ตร.ม. | F34: ='[3]งานผิวผนัง-ผิวพื้น'!$D$2 -> 55 | G34: =IF(F34="-","-",D34*F34) -> 82.5 | H34: ='[3]งานผิวผนัง-ผิวพื้น'!$E$2 -> 70 | I34: =IF(H34="-","-",H34*D34) -> 105 | J34: =SUM(G34,I34) -> 187.5
A35: 2.8 | B35: =[3]งานทาสี!$B$2 -> ทาสีน้ำพลาสติก | D35: 1.5 | E35: =[3]งานทาสี!$C$2 -> ตร.ม. | F35: =[3]งานทาสี!$D$2 -> 35 | G35: =IF(F35="-","-",D35*F35) -> 52.5 | H35: =[3]งานทาสี!$E$2 -> 30 | I35: =IF(H35="-","-",H35*D35) -> 45 | J35: =SUM(G35,I35) -> 97.5
A36: 2.9 | B36: =[3]งานแบบหล่อ!$B$3 -> ไม้แบบหล่อคอนกรีตทั่วไป 80 % พร้อมไม้คร่าว | D36: 0.57 | E36: =[3]งานแบบหล่อ!$C$3 -> ตร.ม. | F36: =[3]งานแบบหล่อ!$D$3 -> 502 | G36: =IF(F36="-","-",D36*F36) -> 286.14 | H36: =[3]งานแบบหล่อ!$E$3 -> 105 | I36: =IF(H36="-","-",H36*D36) -> 59.85 | J36: =SUM(G36,I36) -> 345.99
A37: 2.1 | B37: =[3]งานแบบหล่อ!$B$6 -> ตะปู | D37: 0.1 | E37: =[3]งานแบบหล่อ!$C$6 -> กก. | F37: =[3]งานแบบหล่อ!$D$6 -> 28 | G37: =IF(F37="-","-",D37*F37) -> 2.8 | H37: =[3]งานแบบหล่อ!$E$6 -> - | I37: =IF(H37="-","-",H37*D37) -> - | J37: =SUM(G37,I37) -> 2.8
C38: รวมเงิน (2) | G38: =SUM(G28:G37) -> 1385.4096 | I38: =SUM(I28:I37) -> 376.053 | J38: =SUM(J28:J37) -> 1761.4626
C39: เสามุมรั้วคิดเป็นเงินรวม | D39: 4 | E39: ต้น | F39: =G38 -> 1385.4096 | G39: =IF(F39="-","-",D39*F39) -> 5541.6384 | H39: =I38 -> 376.053 | I39: =IF(H39="-","-",H39*D39) -> 1504.212 | J39: =SUM(G39,I39) -> 7045.8504
C40: รวมเป็นเงิน (1) + (2) | G40: =SUM(G25+G39) -> 12418.638 | I40: =SUM(I25+I39) -> 2953.212 | J40: =SUM(G40,I40) -> 15371.85 | K40: =ROUNDDOWN(J40,-1) -> 15370
B41: 3. รั้ว,เสารั้วต่อ 10 ช่วงเสา (ยาว 20 ม.)
A42: 3.1 | B42: =[3]งานดิน!$B$2 -> ขุดดินหลุมฐานราก/ถมคืน | D42: 1 | E42: =[3]งานดิน!$C$2 -> ลบ.ม. | F42: - | G42: =IF(F42="-","-",D42*F42) -> - | H42: =[3]งานดิน!$E$2 -> 81 | I42: =IF(H42="-","-",H42*D42) -> 81 | J42: =SUM(G42,I42) -> 81
A43: 3.2 | B43: =[3]งานคอนกรีต!$B$3 -> คอนกรีต 1 : 2 : 4 (ซีเมนต์ไม่น้อยกว่า 320 กก/ลบ.ม.) | D43: 0.105 | E43: =[3]งานคอนกรีต!$C$3 -> ลบ.ม. | F43: =[3]งานคอนกรีต!$D$3 -> 1610 | G43: =IF(F43="-","-",D43*F43) -> 169.05 | H43: =[3]งานคอนกรีต!$E$3 -> 395 | I43: =IF(H43="-","-",H43*D43) -> 41.475 | J43: =SUM(G43,I43) -> 210.525
A44: 3.3 | B44: ='[3]อื่น ๆ'!$B$54 -> ลวดหนาม เบอร์ 12 dia. 2.64 มม. | D44: 180 | E44: ='[3]อื่น ๆ'!$C$54 -> ม. | F44: 5.4 | G44: =IF(F44="-","-",D44*F44) -> 972 | H44: ='[3]อื่น ๆ'!$E$54 -> 2 | I44: =IF(H44="-","-",H44*D44) -> 360 | J44: =SUM(G44,I44) -> 1332
A45: 3.4 | B45: ='[3]อื่น ๆ'!$B$53 -> เสารั้ว คสล. สำเร็จรูป 4x4 นิ้ว ยาว 2.50 ม. | D45: 9 | E45: ='[3]อื่น ๆ'!$C$53 -> ต้น | F45: ='[3]อื่น ๆ'!$D$53 -> 290 | G45: =IF(F45="-","-",D45*F45) -> 2610 | H45: ='[3]อื่น ๆ'!$E$53 -> 30 | I45: =IF(H45="-","-",H45*D45) -> 270 | J45: =SUM(G45,I45) -> 2880
A46: 3.5 | B46: ='[3]อื่น ๆ'!$B$66 -> น๊อต dia. 4 มม. | D46: 81 | E46: ='[3]อื่น ๆ'!$C$66 -> ตัว | F46: ='[3]อื่น ๆ'!$D$66 -> 12 | G46: =IF(F46="-","-",D46*F46) -> 972 | H46: - | I46: =IF(H46="-","-",H46*D46) -> - | J46: =SUM(G46,I46) -> 972
C47: รวมเงิน (3) | G47: =SUM(G42:G46) -> 4723.05 | I47: =ROUNDDOWN(SUM(I42:I46),0) -> 752 | J47: =ROUNDDOWN(SUM(J42:J46),0) -> 5475 | K47: ราคา/20 เมตร
C48: รั้ว-เสารั้ว คิดเป็นเงินต่อเมตร | G48: =G47/20 -> 236.1525 | I48: =I47/20 -> 37.6 | J48: =SUM(G48,I48) -> 273.7525 | K48: ราคาต่อเมตร
C49: รั้ว-เสารั้ว คิดเป็นเงินรวม | D49: 77 | E49: ม. | F49: =G48 -> 236.1525 | G49: =IF(F49="-","-",D49*F49) -> 18183.743 | H49: =I48 -> 37.6 | I49: =IF(H49="-","-",H49*D49) -> 2895.2 | J49: =SUM(G49,I49) -> 21078.943 | K49: =ROUNDDOWN(J49,-1) -> 21070
C53: รวมเงิน 1+2+3 | G53: =G25+G38+G47+G49 -> 31169.202 | I53: =I25+I40+I47+I49 -> 8049.412 | J53: =J25+J38+J47+J49 -> 36642.405
C54: คิดเป็นเงินค่างาน | J54: =ROUNDDOWN(J53,0) -> 36642
A57: ประมาณการ | B57: ธันฐกรณ์ คุระแก้ว | D57: เห็นชอบ | E57: ถาวร วิเศษ
B58: (นายธันฐกรณ์ คุระแก้ว) | E58: (นายถาวร วิเศษ)
B59: ผู้อำนวยการกองช่าง | E59: นายกอบต.พะแสง
E60: คณะกรรมการกำหนดราคากลาง
B61: ..........................................................…… | D61: ....................................... | E61: 1.นายอภินันท์ สัมพันธ์ ตำแหน่ง ผอ.กองช่าง ทต.บ้านตาขุน ประธานกรรมการ
D62: ....................................... | E62: 2.นายธันกรณ์ คุระแก้ว ตำแหน่ง ผอ.กองช่าง อบต.พะแสง กรรมการ
D63: ...................................... | E63: 3.นายพรภิรมย์ ศรีรักษา ตำแหน่ง รองปลัดอบต.พะแสง กรรมการ

Sheet 1211010
A1: ประมาณราคาค่าก่อสร้าง | C1: ระบบกรองน้ำบาดาลขนาด 10 ม.3/ชม. (ตอกเข็ม)
A2: ='[2]แบบ ปร.6'!$A$2 -> สถานที่ก่อสร้าง | C2: บ้านบางน้ำเย็น หมู่ที่ ๔ ตำบลพะแสง อำเภอบ้านตาขุน จังหวัดสุราษฎร์ธานี | H2: แบบเลขที่ | I2: 1211010
A3: ฝ่ายประมาณราคา | C3: ='[2]แบบ ปร.6'!$A$4 -> สำนักบริหารจัดการน้ำ กรมทรัพยากรน้ำ | G3: และส่วนโยธา อบต.พะแสง
A4: ประมาณการโดย | C4: นายธันฐกรณ์ คุระแก้ว | H4: เมื่อวันที่ | I4: ='[2]ปร.5 บาดาลขนาดใหญ่'!C9 -> 28 ก.ย.28
A6: ลำดับที่ | B6: รายการ | D6: จำนวนหน่วย | F6: ค่าวัสดุ | H6: ค่าแรง | J6: ค่าวัสดุและ | K6: หมายเหตุ
F7: ราคาต่อหน่วย | G7: เป็นเงิน | H7: ราคาต่อหน่วย | I7: เป็นเงิน | J7: ค่าแรงงาน
B8: 1. งานดิน
A9: 1.1 | B9: =[3]งานดิน!$B$2 -> ขุดดินหลุมฐานราก/ถมคืน | D9: 16 | E9: =[3]งานดิน!$C$2 -> ลบ.ม. | F9: - | G9: =IF(F9="-","-",D9*F9) -> - | H9: =[3]งานดิน!$E$2 -> 81 | I9: =IF(H9="-","-",H9*D9) -> 1296 | J9: =SUM(G9,I9) -> 1296
A10: 1.2 | B10: =[3]งานดิน!$B$6 -> ทรายหยาบ,ทรายหยาบรองพื้น | D10: 3 | E10: =[3]งานดิน!$C$6 -> ลบ.ม. | F10: =[3]งานดิน!$D$6 -> 360 | G10: =IF(F10="-","-",D10*F10) -> 1080 | H10: =[3]งานดิน!$E$6 -> 59 | I10: =IF(H10="-","-",H10*D10) -> 177 | J10: =SUM(G10,I10) -> 1257
B11: 2. งานแบบหล่อ
A12: 2.1 | B12: =[3]งานแบบหล่อ!$B$16 -> ไม้แบบหล่อคอนกรีตทั่วไป 70 % พร้อมไม้คร่าว | D12: 86 | E12: =[3]งานแบบหล่อ!$C$12 -> ตร.ม. | F12: =[3]งานแบบหล่อ!$D$16 -> 440 | G12: =IF(F12="-","-",D12*F12) -> 37840 | H12: =[3]งานแบบหล่อ!$E$16 -> 105 | I12: =IF(H12="-","-",H12*D12) -> 9030 | J12: =SUM(G12,I12) -> 46870
A13: 2.2 | B13: =[3]งานแบบหล่อ!$B$6 -> ตะปู | D13: 22 | E13: =[5]งานแบบหล่อ!$C$6 -> กก. | F13: =[3]งานแบบหล่อ!$D$6 -> 28 | G13: =IF(F13="-","-",D13*F13) -> 616 | H13: - | I13: =IF(H13="-","-",H13*D13) -> - | J13: =SUM(G13,I13) -> 616
B14: 3. งานคอนกรีต
A15: 3.1 | B15: =[3]งานคอนกรีต!$B$2 -> คอนกรีต 1 : 3 : 5 | D15: 1.5 | E15: =[3]งานคอนกรีต!$C$2 -> ลบ.ม. | F15: =[3]งานคอนกรีต!$D$2 -> 1330 | G15: =IF(F15="-","-",D15*F15) -> 1995 | H15: =[3]งานคอนกรีต!$E$2 -> 316 | I15: =IF(H15="-","-",H15*D15) -> 474 | J15: =SUM(G15,I15) -> 2469
A16: 3.2 | B16: =[3]งานคอนกรีต!$B$3 -> คอนกรีต 1 : 2 : 4 (ซีเมนต์ไม่น้อยกว่า 320 กก/ลบ.ม.) | D16: 5 | E16: =[3]งานคอนกรีต!$C$3 -> ลบ.ม. | F16: =[3]งานคอนกรีต!$D$3 -> 1610 | G16: =IF(F16="-","-",D16*F16) -> 8050 | H16: =[3]งานคอนกรีต!$E$3 -> 395 | I16: =IF(H16="-","-",H16*D16) -> 1975 | J16: =SUM(G16,I16) -> 10025
A17: 3.3 | B17: =[3]งานคอนกรีต!$B$4 -> คอนกรีต 1 : 1 1/2 : 3 (ซีเมนต์ไม่น้อยกว่า 400 กก/ลบ.ม.) | D17: 4 | E17: =[3]งานคอนกรีต!$C$4 -> ลบ.ม. | F17: =[3]งานคอนกรีต!$D$4 -> 1730 | G17: =IF(F17="-","-",D17*F17) -> 6920 | H17: =[3]งานคอนกรีต!$E$4 -> 395 | I17: =IF(H17="-","-",H17*D17) -> 1580 | J17: =SUM(G17,I17) -> 8500
A18: 3.4 | B18: =[3]งานคอนกรีต!$B$6 -> น้ำยากันซึม | D18: 15 | E18: =[3]งานคอนกรีต!$C$6 -> ลิตร | F18: =[3]งานคอนกรีต!$D$6 -> 30 | G18: =IF(F18="-","-",D18*F18) -> 450 | H18: - | I18: =IF(H18="-","-",H18*D18) -> - | J18: =SUM(G18,I18) -> 450
B19: 4. งานเหล็ก
A20: 4.1 | B20: =[3]เหล็กเส้นกลม!$B$3 -> เหล็กเส้นกลม dia. 9 มม. (4.99 กก./เส้น) | D20: 114 | E20: =[3]เหล็กเส้นกลม!$C$3 -> กก. | F20: =[3]เหล็กเส้นกลม!$D$3 -> 23.1 | G20: =IF(F20="-","-",D20*F20) -> 2633.4 | H20: =[3]เหล็กเส้นกลม!$E$2 -> 2.8 | I20: =IF(H20="-","-",H20*D20) -> 319.2 | J20: =SUM(G20,I20) -> 2952.6
A21: 4.2 | B21: =[3]เหล็กข้ออ้อย!$B$2 -> เหล็กข้ออ้อย dia.12 มม. (8.88 กก./เส้น) | D21: 510 | E21: =[3]เหล็กข้ออ้อย!$C$2 -> กก. | F21: =[3]เหล็กข้ออ้อย!$D$2 -> 22.43 | G21: =IF(F21="-","-",D21*F21) -> 11439.3 | H21: =[3]เหล็กข้ออ้อย!$E$2 -> 2.8 | I21: =IF(H21="-","-",H21*D21) -> 1428 | J21: =SUM(G21,I21) -> 12867.3
A22: 4.3 | B22: =[3]เหล็กข้ออ้อย!$B$3 -> เหล็กข้ออ้อย dia 16 มม. (15.8 กก./เส้น) | D22: 440 | E22: =[3]เหล็กข้ออ้อย!$C$3 -> กก. | F22: =[3]เหล็กข้ออ้อย!$D$3 -> 22.23 | G22: =IF(F22="-","-",D22*F22) -> 9781.2 | H22: =[3]เหล็กข้ออ้อย!$E$3 -> 2.8 | I22: =IF(H22="-","-",H22*D22) -> 1232 | J22: =SUM(G22,I22) -> 11013.2
A23: 4.4 | B23: =[5]เหล็กเส้นกลม!$B$8 -> ลวดผูกเหล็ก No 18 | D23: 32 | E23: =[3]เหล็กเส้นกลม!$C$9 -> กก. | F23: =[3]เหล็กเส้นกลม!$D$8 -> 31 | G23: =IF(F23="-","-",D23*F23) -> 992 | H23: - | I23: =IF(H23="-","-",H23*D23) -> - | J23: =SUM(G23,I23) -> 992
B24: 5. งานท่อและอุปกรณ์
A25: 5.1 | B25: =[3]GS.!$B$294 -> ท่อเหล็กอาบสังกะสี dia 6" | D25: 0.3 | E25: =[3]GS.!$C$294 -> ท่อน | F25: =[3]GS.!$D$294 -> 4310 | G25: =IF(F25="-","-",D25*F25) -> 1293 | J25: =SUM(G25,I25) -> 1293
A26: 5.2 | B26: =[3]GS.!$B$293 -> ท่อเหล็กอาบสังกะสี dia 4" | D26: 1 | E26: =[3]GS.!$C$293 -> ท่อน | F26: =[3]GS.!$D$293 -> 2670 | G26: =IF(F26="-","-",D26*F26) -> 2670 | J26: =SUM(G26,I26) -> 2670
A27: 5.3 | B27: =[3]GS.!$B$292 -> ท่อเหล็กอาบสังกะสี dia 3" | D27: 1 | E27: =[3]GS.!$C$292 -> ท่อน | F27: =[3]GS.!$D$292 -> 1832 | G27: =IF(F27="-","-",D27*F27) -> 1832 | J27: =SUM(G27,I27) -> 1832
A28: 5.4 | B28: =[3]GS.!$B$2 -> ท่อเหล็กอาบสังกะสี+ข้อต่อยาว6ม. dia 1/2" | D28: 0.2 | E28: =[3]GS.!$C$2 -> ท่อน | F28: =[3]GS.!$D$2 -> 295 | G28: =IF(F28="-","-",D28*F28) -> 59 | J28: =SUM(G28,I28) -> 59
A29: 5.5 | B29: =[3]PVC1!$B$17 -> ท่อ PVC.ยาว 4 ม. ชั้น 8. 5 ปลายเรียบ dia 1" | D29: 3 | E29: =[3]PVC1!$C$17 -> ท่อน | F29: =[3]PVC1!$D$17 -> 67 | G29: =IF(F29="-","-",D29*F29) -> 201 | J29: =SUM(G29,I29) -> 201
A30: 5.6 | B30: =[3]GS.!$B$45 -> ข้องอเหล็กอาบสังกะสี 90 ม-ม dia 6" | D30: 2 | E30: =[3]GS.!$C$45 -> ตัว | F30: =[3]GS.!$D$45 -> 1160 | G30: =IF(F30="-","-",D30*F30) -> 2320 | J30: =SUM(G30,I30) -> 2320
A31: 5.7 | B31: =[3]GS.!$B$34 -> หน้าจานเหล็กหล่อ เกลียวใน dia 6" | D31: 2 | E31: =[3]GS.!$C$34 -> ตัว | F31: =[3]GS.!$D$34 -> 510 | G31: =IF(F31="-","-",D31*F31) -> 1020 | J31: =SUM(G31,I31) -> 1020
A32: 5.8 | B32: =[3]ประตูน้ำ!$B$53 -> ประตูน้ำเหล็กหล่อบนดิน หน้าจาน dia 6" แบบพวงมาลัย | D32: 1 | E32: =[3]ประตูน้ำ!$C$53 -> ชุด | F32: =[3]ประตูน้ำ!$D$53 -> 12200 | G32: =IF(F32="-","-",D32*F32) -> 12200 | J32: =SUM(G32,I32) -> 12200
A33: 5.9 | B33: =[3]เหล็กหล่อ!$B$327 -> สี่ทางเหล็กหล่อ หน้า จาน 4 ด้าน dia 3" | D33: 1 | E33: =[3]เหล็กหล่อ!$C$327 -> ตัว | F33: =[3]เหล็กหล่อ!$D$327 -> 2410 | G33: =IF(F33="-","-",D33*F33) -> 2410 | J33: =SUM(G33,I33) -> 2410
A34: 5.1 | B34: =[3]ประตูน้ำ!$B$46 -> ประตูน้ำเหล็กหล่อบนดิน dia 4" | D34: 2 | E34: =[3]ประตูน้ำ!$C$46 -> ตัว | F34: =[3]ประตูน้ำ!$D$46 -> 7630 | G34: =IF(F34="-","-",D34*F34) -> 15260 | J34: =SUM(G34,I34) -> 15260
A35: 5.11 | B35: =[3]GS.!$B$32 -> หน้าจานเหล็กหล่อ เกลียวใน dia 4" | D35: 6 | E35: =[3]GS.!$C$32 -> ตัว | F35: =[3]GS.!$D$32 -> 320 | G35: =IF(F35="-","-",D35*F35) -> 1920 | J35: =SUM(G35,I35) -> 1920
A36: 5.12 | B36: =[3]ยีโบลท์!$B$10 -> ยี-โบลท์ ชั้น 15 dia 4" | D36: 1 | E36: =[3]ยีโบลท์!$C$10 -> ชุด | F36: =[3]ยีโบลท์!$D$10 -> 420 | G36: =IF(F36="-","-",D36*F36) -> 420 | I36: 5900 | J36: =SUM(G36,I36) -> 6320
A37: 5.13 | B37: =[3]GS.!$B$243 -> ฝาครอบเหล็กอาบสังกะสี dia 4" | D37: 1 | E37: =[3]GS.!$C$243 -> ตัว | F37: =[3]GS.!$D$243 -> 190 | G37: =IF(F37="-","-",D37*F37) -> 190 | J37: =SUM(G37,I37) -> 190
C38: รวมยอดยกไป | G38: =SUM(G9:G37) -> 123591.9 | I38: =SUM(I9:I37) -> 23411.2 | J38: =SUM(J9:J37) -> 147003.1
C39: รวมยอดยกมา | G39: =G38 -> 123591.9 | I39: =I38 -> 23411.2 | J39: =G39+I39 -> 147003.1
A40: 5.14 | B40: =[3]เหล็กหล่อ!$B$35 -> ข้อโค้งเหล็กหล่อ 90 หน้าจาน 2 ด้าน dia 3" | D40: 1 | E40: =[3]เหล็กหล่อ!$C$35 -> ตัว | F40: =[3]เหล็กหล่อ!$D$35 -> 1250 | G40: =IF(F40="-","-",D40*F40) -> 1250 | J40: =SUM(G40,I40) -> 1250
A41: 5.15 | B41: =[3]GS.!$B$43 -> ข้องอเหล็กอาบสังกะสี 90 ม-ม dia 4" | D41: 4 | E41: =[3]GS.!$C$43 -> ตัว | F41: =[3]GS.!$D$43 -> 314 | G41: =IF(F41="-","-",D41*F41) -> 1256 | J41: =SUM(G41,I41) -> 1256
A42: 5.16 | B42: =[3]GS.!$B$42 -> ข้องอเหล็กอาบสังกะสี 90 ม-ม dia 3" | D42: 7 | E42: =[3]GS.!$C$42 -> ตัว | F42: =[3]GS.!$D$42 -> 178 | G42: =IF(F42="-","-",D42*F42) -> 1246 | J42: =SUM(G42,I42) -> 1246
A43: 5.17 | B43: =[3]GS.!$B$17 -> ข้อต่อตรงเหล็กอาบสังกะสี dia 1 1/2" | D43: 18 | E43: =[3]GS.!$C$17 -> ตัว | F43: =[3]GS.!$D$17 -> 31 | G43: =IF(F43="-","-",D43*F43) -> 558 | J43: =SUM(G43,I43) -> 558
A44: 5.18 | B44: =[3]PVC1!$B$183 -> ข้อต่อเกลียวนอก PVC. ชั้น 13.5 dia 1 1/2" | D44: 18 | E44: =[3]PVC1!$C$183 -> ตัว | F44: =[3]PVC1!$D$183 -> 9 | G44: =IF(F44="-","-",D44*F44) -> 162 | J44: =SUM(G44,I44) -> 162
A45: 5.19 | B45: =[3]PVC1!$B$144 -> ฝาครอบ PVC. ชั้น 13.5 dia 1 1/2" | D45: 18 | E45: =[3]PVC1!$C$144 -> ตัว | F45: =[3]PVC1!$D$144 -> 10 | G45: =IF(F45="-","-",D45*F45) -> 180 | J45: =SUM(G45,I45) -> 180
A46: 5.2 | B46: =[3]GS.!$B$13 -> ข้อต่อตรงเหล็กอาบสังกะสี dia 1/2" | D46: 1 | E46: =[3]GS.!$C$13 -> ตัว | F46: =[3]GS.!$D$13 -> 8 | G46: =IF(F46="-","-",D46*F46) -> 8 | J46: =SUM(G46,I46) -> 8
A47: 5.21 | B47: =[3]GS.!$B$147 -> สามทางเหล็กอาบสังกะสี dia 1/2" | D47: 1 | E47: =[3]GS.!$C$147 -> ตัว | F47: =[3]GS.!$D$147 -> 13 | G47: =IF(F47="-","-",D47*F47) -> 13 | J47: =SUM(G47,I47) -> 13
A48: 5.22 | B48: =[3]ประตูน้ำ!$B$55 -> ประตูน้ำเหล็กหล่อลิ้นปีกผีเสื้อ dia 4" | D48: 1 | E48: =[3]ประตูน้ำ!$C$55 -> ชุด | F48: =[3]ประตูน้ำ!$D$55 -> 10500 | G48: =IF(F48="-","-",D48*F48) -> 10500 | J48: =SUM(G48,I48) -> 10500
A49: 5.23 | B49: =[3]GS.!$B$253 -> ประเก็นยาง dia 3" | D49: 2 | E49: =[3]GS.!$C$253 -> แผ่น | F49: =[3]GS.!$D$253 -> 20 | G49: =IF(F49="-","-",D49*F49) -> 40 | J49: =SUM(G49,I49) -> 40
A50: 5.24 | B50: =[3]GS.!$B$254 -> ประเก็นยาง dia 4" | D50: 8 | E50: =[3]GS.!$C$254 -> แผ่น | F50: =[3]GS.!$D$254 -> 28 | G50: =IF(F50="-","-",D50*F50) -> 224 | J50: =SUM(G50,I50) -> 224
A51: 5.25 | B51: =[3]GS.!$B$256 -> ประเก็นยาง dia 6" | D51: 2 | E51: =[3]GS.!$C$255 -> แผ่น | F51: =[3]GS.!$D$256 -> 40 | G51: =IF(F51="-","-",D51*F51) -> 80 | J51: =SUM(G51,I51) -> 80
A52: 5.26 | B52: ='[3]อื่น ๆ'!$B$77 -> น๊อตยึดหน้าจาน dia. 3/4 x 3" | D52: 16 | E52: ='[3]อื่น ๆ'!$C$77 -> ตัว | F52: ='[3]อื่น ๆ'!$D$77 -> 25 | G52: =IF(F52="-","-",D52*F52) -> 400 | H52: - | I52: =IF(H52="-","-",H52*D52) -> - | J52: =SUM(G52,I52) -> 400
A53: 5.27 | B53: ='[3]อื่น ๆ'!$B$76 -> น๊อตยึดหน้าจาน dia. 5/8 x 3" | D53: 72 | E53: ='[3]อื่น ๆ'!$C$76 -> ตัว | F53: ='[3]อื่น ๆ'!$D$76 -> 20 | G53: =IF(F53="-","-",D53*F53) -> 1440 | H53: - | I53: =IF(H53="-","-",H53*D53) -> - | J53: =SUM(G53,I53) -> 1440
B54: 6. งานผิวผนัง
A55: 6.1 | B55: ='[3]งานผิวผนัง-ผิวพื้น'!$B$2 -> ฉาบปูนเรียบธรรมดา | D55: 25 | E55: ='[3]งานผิวผนัง-ผิวพื้น'!$C$2 -> ตร.ม. | F55: ='[3]งานผิวผนัง-ผิวพื้น'!$D$2 -> 55 | G55: =IF(F55="-","-",D55*F55) -> 1375 | H55: ='[3]งานผิวผนัง-ผิวพื้น'!$E$2 -> 70 | I55: =IF(H55="-","-",H55*D55) -> 1750 | J55: =SUM(G55,I55) -> 3125
B57: 7. งานอื่น ๆ
A58: 7.1 | B58: ='[3]อื่น ๆ'!$B$29 -> บันไดท่อเหล็กอาบสังกะสี | D58: 1 | E58: ='[3]อื่น ๆ'!$C$29 -> ชุด | F58: ='[3]อื่น ๆ'!$D$29 -> 1530 | G58: =IF(F58="-","-",D58*F58) -> 1530 | H58: ='[3]อื่น ๆ'!$E$29 -> 350 | I58: =IF(H58="-","-",H58*D58) -> 350 | J58: =SUM(G58,I58) -> 1880
A59: 7.2 | B59: ='[3]อื่น ๆ'!$B$40 -> แผ่นสังกะสีกันซึม เบอร์ 28 ขนาด 0.91x2.435 ม. | D59: 1 | E59: ='[3]อื่น ๆ'!$C$40 -> แผ่น | F59: ='[3]อื่น ๆ'!$D$40 -> 210 | G59: =IF(F59="-","-",D59*F59) -> 210 | H59: - | I59: =IF(H59="-","-",H59*D59) -> - | J59: =SUM(G59,I59) -> 210
A60: 7.3 | B60: ='[3]อื่น ๆ'!$B$2 -> กรวดกรอง dia 1 1/4" - 2 1/4" | D60: 1 | E60: ='[3]อื่น ๆ'!$C$2 -> ลบ.ม. | F60: ='[3]อื่น ๆ'!$D$2 -> 1650 | G60: =IF(F60="-","-",D60*F60) -> 1650 | H60: ='[3]อื่น ๆ'!$E$2 -> 400 | I60: =IF(H60="-","-",H60*D60) -> 400 | J60: =SUM(G60,I60) -> 2050
A61: 7.4 | B61: ='[3]อื่น ๆ'!$B$15 -> ทรายกรองเร็ว | D61: 2.2 | E61: ='[3]อื่น ๆ'!$C$15 -> ลบ.ม. | F61: ='[3]อื่น ๆ'!$D$15 -> 1650 | G61: =IF(F61="-","-",D61*F61) -> 3630 | H61: ='[3]อื่น ๆ'!$E$15 -> 400 | I61: =IF(H61="-","-",H61*D61) -> 880 | J61: =SUM(G61,I61) -> 4510
B62: 8. งานทาสี
A63: 8.1 | B63: =[3]งานทาสี!$B$2 -> ทาสีน้ำพลาสติก | D63: 25 | E63: =[3]งานทาสี!$C$2 -> ตร.ม. | F63: =[3]งานทาสี!$D$2 -> 35 | G63: =IF(F63="-","-",D63*F63) -> 875 | H63: =[3]งานทาสี!$E$2 -> 30 | I63: =IF(H63="-","-",H63*D63) -> 750 | J63: =SUM(G63,I63) -> 1625
A64: 8.2 | B64: =[3]งานทาสี!$B$3 -> ทาสีน้ำมัน | D64: 10 | E64: =[5]งานทาสี!$C$3 -> ตร.ม. | F64: =[3]งานทาสี!$D$3 -> 45 | G64: =IF(F64="-","-",D64*F64) -> 450 | H64: =[3]งานทาสี!$E$3 -> 35 | I64: =IF(H64="-","-",H64*D64) -> 350 | J64: =SUM(G64,I64) -> 800
A65: 8.3 | B65: =[3]งานทาสี!$B$4 -> ทาซีเมนต์เบส | D65: 29 | E65: =[5]งานทาสี!$C$4 -> ตร.ม. | F65: =[3]งานทาสี!$D$4 -> 110 | G65: =IF(F65="-","-",D65*F65) -> 3190 | H65: =[3]งานทาสี!$E$4 -> 40 | I65: =IF(H65="-","-",H65*D65) -> 1160 | J65: =SUM(G65,I65) -> 4350
B66: 9. แอร์เรเตอร์
A67: 9.1 | B67: =[3]แอร์เรเตอร์!$B$2 -> เหล็ก 1 1/2 นิ้ว x 1 1/2 นิ้ว x 6 ม. สี่เหลี่ยมตัน | D67: 2 | E67: =[3]แอร์เรเตอร์!$C$2 -> ท่อน | F67: =[3]แอร์เรเตอร์!$D$2 -> 3030 | G67: =IF(F67="-","-",D67*F67) -> 6060 | J67: =SUM(G67,I67) -> 6060
A68: 9.2 | B68: =[3]แอร์เรเตอร์!$B$3 -> เหล็กฉาก 1 1/2 นิ้ว x 1 1/2 นิ้ว x 4 มม. x 6 ม. | D68: 5 | E68: =[3]แอร์เรเตอร์!$C$3 -> เส้น | F68: =[3]แอร์เรเตอร์!$D$3 -> 310 | G68: =IF(F68="-","-",D68*F68) -> 1550 | J68: =SUM(G68,I68) -> 1550
C69: รวมยอดยกไป | G69: =SUM(G39:G68) -> 161468.9 | I69: =SUM(I39:I68) -> 29051.2 | J69: =SUM(J39:J68) -> 190520.1
C70: รวมยอดยกมา | G70: =G69 -> 161468.9 | I70: =I69 -> 29051.2 | J70: =G70+I70 -> 190520.1
A71: 9.3 | B71: =[3]แอร์เรเตอร์!$B$4 -> แผ่นอลูมิเนียมหนา 4.5 มม.ขนาด 4 x 8 ตร.ฟุต | D71: 3 | E71: =[3]แอร์เรเตอร์!$C$4 -> แผ่น | F71: =[3]แอร์เรเตอร์!$D$4 -> 5200 | G71: =IF(F71="-","-",D71*F71) -> 15600 | I71: 6200 | J71: =SUM(G71,I71) -> 21800
A72: 9.4 | B72: =[3]แอร์เรเตอร์!$B$5 -> อลูมิเนียมขนาด 4 นิ้ว x 1 หุน x 6 ม. | D72: 5 | E72: =[3]แอร์เรเตอร์!$C$5 -> เส้น | F72: =[3]แอร์เรเตอร์!$D$5 -> 710 | G72: =IF(F72="-","-",D72*F72) -> 3550 | J72: =SUM(G72,I72) -> 3550
A73: 9.5 | B73: =[3]แอร์เรเตอร์!$B$7 -> อลูมิเนียมฉากขนาด 2 นิ้ว x 2 นิ้ว x 3 หุน x 6 ม. | D73: 5 | E73: =[3]แอร์เรเตอร์!$C$7 -> เส้น | F73: =[3]แอร์เรเตอร์!$D$7 -> 1590 | G73: =IF(F73="-","-",D73*F73) -> 7950 | J73: =SUM(G73,I73) -> 7950
A74: 9.6 | B74: =[3]แอร์เรเตอร์!$B$8 -> หมุดรีเวท ขนาด 1/8 นิ้ว x 1/2 นิ้ว | D74: 1 | E74: =[3]แอร์เรเตอร์!$C$8 -> กล่อง | F74: =[3]แอร์เรเตอร์!$D$8 -> 310 | G74: =IF(F74="-","-",D74*F74) -> 310 | J74: =SUM(G74,I74) -> 310
B75: 10. เสาเข็ม
A76: 10.1 | B76: เสาเข็ม คสล.หรือ คอร. ยาว 6.00 ม.
B77: หน้าตัด 180 ตร.ซม. เส้นรอบรูป 77 ซม. | D77: 9 | E77: =[3]เสาเข็ม!$C$8 -> ต้น | F77: =[3]เสาเข็ม!$D$8 -> 720 | G77: =IF(F77="-","-",D77*F77) -> 6480 | H77: =[3]เสาเข็ม!$E$8 -> 190 | I77: =IF(H77="-","-",H77*D77) -> 1710 | J77: =SUM(G77,I77) -> 8190
C79: รวมเงิน | G79: =SUM(G70:G78) -> 195358.9 | I79: =SUM(I70:I78) -> 36961.2 | J79: =SUM(J70:J78) -> 232320.1
C80: คิดเป็นเงินค่างาน | J80: =ROUNDDOWN(J79,-1) -> 232320
A83: ประมาณการ | B83: ธันฐกรณ์ คุระแก้ว | D83: เห็นชอบ | E83: ถาวร วิเศษ
B84: ( นายธันฐกรณ์ คุระแก้ว ) | E84: (นายถาวร วิเศษ)
B85: ผู้อำนวยการกองช่าง | E85: นายกอบต.พะแสง
E86: คณะกรรมการกำหนดราคากลาง
B87: ..........................................................…… | D87: ....................................... | E87: 1.นายอภินันท์ สัมพันธ์ ตำแหน่ง ผอ.กองช่าง ทต.บ้านตาขุน ประธานกรรมการ
D88: ....................................... | E88: 2.นายธันกรณ์ คุระแก้ว ตำแหน่ง ผอ.กองช่าง อบต.พะแสง กรรมการ
D89: ...................................... | E89: 3.นายพรภิรมย์ ศรีรักษา ตำแหน่ง รองปลัดอบต.พะแสง กรรมการ

Sheet ทดสอบดิน
A1: ประมาณราคาค่าก่อสร้าง | C1: ทดสอบความสามารถในการรับน้ำหนักบรรทุกของดิน
A2: ='[2]แบบ ปร.6'!$A$2 -> สถานที่ก่อสร้าง | B2: บ้านบางน้ำเย็น หมู่ที่ ๔ ตำบลพะแสง อำเภอบ้านตาขุน จังหวัดสุราษฎร์ธานี | F2: แบบเลขที่ | G2: รายการฯ เฉพาะแห่ง | I2: รายการเลขที่
A3: ฝ่ายประมาณราคา | B3: ='[2]แบบ ปร.6'!$A$4 -> สำนักบริหารจัดการน้ำ กรมทรัพยากรน้ำ | C3: และส่วนโยธา อบต.พะแสง
A4: ประมาณการโดย | B4: นายธันฐกรณ์ คุระแก้ว | F4: เมื่อวันที่ 28 ก.ย. 58
A6: ลำดับที่ | B6: รายการ | D6: จำนวนหน่วย | F6: ค่าวัสดุ | H6: ค่าแรง | J6: ค่าวัสดุและ | K6: หมายเหตุ
F7: ราคาต่อหน่วย | G7: เป็นเงิน | H7: ราคาต่อหน่วย | I7: เป็นเงิน | J7: ค่าแรงงาน
A8: 1 | B8: =[5]งานดิน!$B$8 -> ทดสอบดินวิธี Boring Test (SPT.) | D8: 1 | E8: {=[5]งานดิน!$C$8:$D$8} -> จุด | F8: - | G8: =IF(F8="-","-",D8*F8) -> - | H8: =[5]งานดิน!$E$8 -> 16000 | I8: =IF(H8="-","-",H8*D8) -> 16000 | J8: =SUM(G8,I8) -> 16000
C12: รวมเงิน | G12: =SUM(G8:G11) -> 0 | I12: =SUM(I8:I11) -> 16000 | J12: =SUM(J8:J11) -> 16000
C13: คิดเป็นเงินค่างาน | J13: =ROUNDDOWN(J12,0) -> 16000
A15: ประมาณการ | B15: ธันฐกรณ์ คุระแก้ว | D15: เห็นชอบ | E15: ถาวร วิเศษ
A16: (นายธันฐกรณ์ คุระแก้ว) | E16: (นายถาวร วิเศษ)
B17: ผู้อำนวยการกองช่าง | E17: นายกอบต.พะแสง
E18: คณะกรรมการกำหนดราคากลาง
B19: ..........................................................…… | D19: ....................................... | E19: 1.นายอภินันท์ สัมพันธ์ ตำแหน่ง ผอ.กองช่าง ทต.บ้านตาขุน ประธานกรรมการ
D20: ....................................... | E20: 2.นายธันกรณ์ คุระแก้ว ตำแหน่ง ผอ.กองช่าง อบต.พะแสง กรรมการ
D21: ...................................... | E21: 3.นายพรภิรมย์ ศรีรักษา ตำแหน่ง รองปลัดอบต.พะแสง กรรมการ

Sheet ปร.6xF บาดาลขนาดใหญ่
M1: แบบ ปร.6
A3: รายการค่าประมาณการก่อสร้าง
A5: ส่วนราชการ | E5: องค์การบริหารส่วนตำบลพะแสง
B6: ประเภท | E6: ระบบประปาหมู่บ้านแบบบาดาลขนาดใหญ่ | O6: –
B7: เจ้าของอาคาร | E7: องค์การบริหารส่วนตำบลพะแสง
B8: สถานที่ก่อสร้าง | E8: บ้านบางน้ำเย็น หมู่ที่ ๔ ตำบลพะแสง อำเภอบ้านตาขุน จังหวัดสุราษฎร์ธานี
B9: หน่วยงานออกแบบแปลนและรายการ สำนักบริหารจัดการน้ำ | H9: กรมทรัพยากรน้ำ
B10: แบบเลขที่ | E10: ='[2]ปร.5 บาดาลขนาดใหญ่'!B7 -> 1211010,2111100,3111030,412003,911001,911005-911007,921001,991002 พร้อมด้วยรายการฯ เฉพาะแห่ง,รายการฯ ทั่วไป และ.................
B11: ประมาณราคาตามแบบ ปร.4 | I11: จำนวน | K11: แผ่น 1
I12: เมื่อวันที่ | K12: 28 ก.ย. 58
A15: ลำดับที่ | C15: รายการ | J15: ค่าก่อสร้าง | L15: ค่าก่อสร้าง+F | N15: หมายเหตุ
J16: ( บาท ) | L16: ( บาท )
A17: 1 | C17: ประเภทงานอาคาร
C18: 1.1 โรงสูบน้ำ จำนวน 1 หลัง แบบเลขที่ 412003 | J18: 102760 | M18: =(J18*1.2645) -> 129940.02 | N18: =(K18*1.2645) -> 0
C19: 1.2 รางระบายน้ำ แบบเลขที่ 911001, 911005 | J19: 6100 | M19: =(J19*1.2645) -> 7713.45 | N19: *
C20: 1.3 ป้ายการประปา แบบเลขที่ 921001 | J20: 4020 | M20: =(J20*1.2645) -> 5083.29 | N20: *
C21: 1.4 ป้ายบอกระดับน้ำในถังน้ำใส แบบเลขที่ 991002 | J21: 6990 | M21: =(J21*1.2645) -> 8838.855 | N21: *
C22: 1.5 ประตูรั้ว แบบเลขที่ 921001 | J22: 36642 | M22: =(J22*1.2645) -> 46333.809 | N22: *
C23: 1.6 การประสานท่อระหว่างระบบ แบบเลขที่ 911005 | J23: 82470 | M23: =(J23*1.2645) -> 104283.32 | N23: *
C24: 1.7 การประสานท่อที่ปากบ่อบาดาล แบบเลขที่ 911007 | J24: 6350 | M24: =(J24*1.2645) -> 8029.575 | N24: *
C25: 1.8 การประสานท่อภายในโรงสูบน้ำดี แบบเลขที่ 911006 | J25: 48520 | M25: =(J25*1.2645) -> 61353.54 | N25: *
C26: 1.9 ทดสอบการรับน้ำหนักบรรทุกของดินจำนวน 1 จุด | J26: 16000 | M26: =(J26*1.2645) -> 20232 | N26: *
C27: 1.10 การประสานระบบไฟฟ้าภายใน | J27: 14250 | M27: =(J27*1.2645) -> 18019.125 | N27: * | P27: =SUM(J18:J27) -> 324102
A28: 2 | C28: ประเภทงานโครงสร้างคอนกรีตเสริมเหล็ก | M28: =(J28*1.2645) -> 0
C29: 2.1 ระบบกรองน้ำบาดาลขนาด 10 ลูกบาศก์เมตรต่อชั่วโมง แบบเลขที่ 1211010 | J29: 232320 | M29: =(J29*1.2645) -> 293768.64
C30: 2.2 ถังน้ำใส ขนาดจุ 100 ลูกบาศก์เมตร แบบเลขที่ 2111100 | J30: 461020 | M30: =(J30*1.2645) -> 582959.79
C31: 2.3 หอถังสูง ขนาดจุ 30 ลูกบาศก์กเมตร แบบเลขที่ 3111030 | J31: 562660 | M31: =(J31*1.2645) -> 711483.57 | P31: =SUM(J29:J31) -> 1256000
A32: 3 | C32: ประเภทงานสาธารณูปโภค
C33: 3.1 ระบบท่อส่งน้ำดิบ | J33: 35590 | M33: =(J33*1.3322) -> 47412.998 | N33: * | Q33: หาF
C34: 3.2 ระบบท่อจ่ายน้ำประปา | J34: 428900 | M34: =(J34*1.3322) -> 571380.58 | P34: =SUM(J33:J34) -> 464490 | Q34: =SUM(P27+P31+P34) -> 2044592
A35: 4 | C35: ประเภทงานครุภัณฑ์และอื่นๆ
C36: 4.1 เครื่องสูบน้ำบาดาลพร้อมอุปกรณ์ควบคุมจำนวน 1 ชุด | J36: 45000 | M36: =(J36*1.07) -> 48150
C37: 4.2 เครื่องสูบน้ำดีพร้อมอุปกรณ์ จำนวน 2 ชุด | J37: 53600 | M37: =(J37*1.07) -> 57352
C38: 4.3 เครื่องจ่ายสารละลายครอรีน | J38: 18500 | M38: =(J38*1.07) -> 19795
C39: 4.4 เครื่องมือประจำการประปา | J39: 8700 | M39: =(J39*1.07) -> 9309 | N39: *
C40: 4.5 เครื่องมือตรวจวัดความเป็นกรด-ด่างในน้ำ | J40: 3800 | M40: =(J40*1.07) -> 4066 | N40: *
C41: 4.6 เครื่องมึอตรวจวัดสารละลายเหล็กในน้ำ | J41: 3000 | M41: =(J41*1.07) -> 3210 | N41: *
C42: 4.7 ค่าขนส่ง | J42: 12000 | M42: =(J42*1.07) -> 12840 | N42: * ขึ้นอยู่กับสถานที่ | P42: =SUM(J36:J42) -> 144600
C43: รวมเป็นเงิน | M43: =SUM(M18:M42) -> 2771554.6 | N43: ก่อสร้าง
A44: สรุป | C44: รวมราคาค่าก่อสร้างเป็นเงินทั้งสิ้น | K44: =SUM(J18:J42) -> 2189192 | M44: =ROUNDDOWN(M43,-3) -> 2771000 | P44: =P27+P31+P34+P42 -> 2189192
C45: ( ตัวอักษร ) | L45: =CONCATENATE("(เงิน",BAHTTEXT(M44),")") -> (เงินสองล้านเจ็ดแสนเจ็ดหมื่นหนึ่งพันบาทถ้วน)
C46: คิดเป็นราคากลางค่าก่อสร้าง | M46: 2723900
C47: ( ตัวอักษร ) | J47: (เงินสองล้านเจ็ดแสนสองหมื่นสามพันเก้าร้อยบาทถ้วน
A48: หมายเหตุ 1.ราคานี้ไม่รวมการประสานระบบไฟฟ้าและขยายเขตไฟฟ้าภายนอก
D49: 2.เครื่องหมาย * หมายถึง ส่วนประกอบอื่นๆ
A51: ประมาณราคาโดย ธันฐกรณ์ คุระแก้ว | K51: เห็นชอบ | L51: ถาวร วิเศษ | O51: หัวหน้ากลุ่ม
E52: ( นายธันฐกรณ์ คุระแก้ว ) | L52: (นายถาวร วิเศษ) | O52: )
E53: ผู้อำนวยการกองช่าง | M53: นายกอบต.พะแสง
L55: คณะกรรมการกำหนดราคากลาง
K56: ....................................... | L56: 1.นายอภินันท์ สัมพันธ์ ตำแหน่ง ผอ.กองช่าง ทต.บ้านตาขุน ประธานกรรมการ
J57: ........... | K57: ....................................... | L57: 2.นายธันกรณ์ คุระแก้ว ตำแหน่ง ผอ.กองช่าง อบต.พะแสง กรรมการ
K58: ...................................... | L58: 3.นายพรภิรมย์ ศรีรักษา ตำแหน่ง รองปลัดอบต.พะแสง กรรมการ

Sheet ปร.5 บาดาลขนาดใหญ่
A1: สรุปผลการประมาณราคาค่าก่อสร้าง
A2: ส่วนราชการ | B2: องค์การบริหารส่วนตำบลพะแสง
A3: ประเภท | B3: ระบบประปาหมู่บ้านแบบบาดาลขนาดใหญ่
A4: เจ้าของอาคาร | B4: องค์การบริหารส่วนตำบลพะแสง
A5: ='[7]แบบ ปร.6'!$A$2 -> สถานที่ก่อสร้าง | B5: บ้านบางน้ำเย็น หมู่ที่ ๔ ตำบลพะแสง อำเภอบ้านตาขุน จังหวัดสุราษฎร์ธานี
A6: หน่วยงานออกแบบแปลนและรายการ | C6: ='[7]แบบ ปร.6'!$A$4 -> สำนักบริหารจัดการน้ำ กรมทรัพยากรน้ำ
A7: แบบเลขที่ | B7: 1211010,2111100,3111030,412003,911001,911005-911007,921001,991002 พร้อมด้วยรายการฯ เฉพาะแห่ง,รายการฯ ทั่วไป และ.................
A8: ประมาณราคาตามแบบ ปร.4 | C8: จำนวน | E8: แผ่น
A9: ประมาณราคาเมื่อวันที่ | C9: 28 ก.ย.28
A11: ลำดับที่ | B11: รายการ | D11: ค่าวัสดุและค่าแรงงานรวมเป็นเงิน (บาท) | E11: FACTOR F | F11: ค่าก่อสร้างทั้งหมดรวมเป็นเงิน (บาท) | G11: หมายเหตุ
A12: 1 | B12: ประเภทงานอาคารและงานโครงสร้างคอนกรีตเสริมเหล็ก | D12: ='[2]ปร.6xF บาดาลขนาดใหญ่'!P27+'[2]ปร.6xF บาดาลขนาดใหญ่'!P31 -> 1580102 | E12: 1.2645 | F12: =INT(D12*E12) -> 1998038
A13: 2 | B13: ประเภทงานทาง | D13: ='[2]ปร.6xF บาดาลขนาดใหญ่'!P34 -> 464490 | E13: 1.3322 | F13: =INT(D13*E13) -> 618793
A14: 3 | B14: ประเภทงานชลประทาน | F14: =INT(D14*E14) -> 0
A15: 4 | B15: ประเภทงานสะพานและท่อเหลี่ยม | F15: =INT(D15*E15) -> 0
A16: 3 | B16: ประเภทงานครุภัณฑ์และอื่นๆ | D16: ='[2]ปร.6xF บาดาลขนาดใหญ่'!P42 -> 144600 | E16: 1.07 | F16: =INT(D16*E16) -> 154722
B17: เงื่อนไข
B18: เงินล่วงหน้าจ่าย | C18: 0.15
B19: เงินประกันผลงานหัก | C19: 0
B20: ดอกเบี้ยเงินกู้ | C20: 0.07
B21: ดอกเบี้ยเงินฝาก
A22: สรุป | B22: รวมค่าก่อสร้างเป็นเงินทั้งสิ้น | D22: =D12+D13+D16 -> 2189192 | F22: =SUM(F12:F21) -> 2771553
B23: คิดเป็นเงินประมาณการ | F23: =ROUNDDOWN(F22,-3) -> 2771000
A24: ตัวอักษร | D24: สองล้านเจ็ดแสนเจ็ดหมื่นหนึ่งพันบาทถ้วน
B25: คิดเป็นเงินราคากลาง | F25: 2723900
A26: ตัวอักษร | D26: สองล้านเจ็ดแสนสองหมื่นสามพันเก้าร้อยบาทถ้วน
A27: ประมาณการ | B27: ธันฐกรณ์ คุระแก้ว | D27: เห็นชอบ | E27: ถาวร วิเศษ
B28: ( นายธันฐกรณ์ คุระแก้ว ) | E28: (นายถาวร วิเศษ)
B29: ผู้อำนวยการกองช่าง | E29: นายกอบต.พะแสง
E30: คณะกรรมการกำหนดราคากลาง
B31: ..........................................................…… | D31: ....................................... | E31: 1.นายอภินันท์ สัมพันธ์ ตำแหน่ง ผอ.กองช่าง ทต.บ้านตาขุน ประธานกรรมการ
D32: ....................................... | E32: 2.นายธันกรณ์ คุระแก้ว ตำแหน่ง ผอ.กองช่าง อบต.พะแสง กรรมการ
D33: ...................................... | E33: 3.นายพรภิรมย์ ศรีรักษา ตำแหน่ง รองปลัดอบต.พะแสง กรรมการ
